BEGIN:VCALENDAR
VERSION:2.0
PRODID:-//ChamberMaster//Event Calendar 2.0//EN
METHOD:PUBLISH
X-PUBLISHED-TTL:P3D
REFRESH-INTERVAL:P3D
CALSCALE:GREGORIAN
BEGIN:VEVENT
DTSTART:20250321T220000Z
DTEND:20250322T010000Z
X-MICROSOFT-CDO-ALLDAYEVENT:FALSE
SUMMARY:Elvis Tribute Show | La Carreta Mexican Restaurant
DESCRIPTION:Join La Carreta Mexican Restaurant in Mocksville to sing\, dance\, and have FUN! A Tribute to the King of Rock and Roll and much more! Enjoy delicious food and drinks as you watch the show!
X-ALT-DESC;FMTTYPE=text/html:<span style="color:#000000\;"><span style="font-size:18px\;"><span style="font-family:tahoma\;">Join La Carreta Mexican Restaurant in Mocksville to sing\, dance\, and have FUN! A Tribute to the King of Rock and Roll and much more! Enjoy delicious food and drinks as you watch the show!</span></span></span>
LOCATION:La Carreta Mexican Restaurant
UID:e.2378.25353
SEQUENCE:3
DTSTAMP:20260426T005450Z
URL:https://business.daviechamber.com/events/details/elvis-tribute-show-la-carreta-mexican-restaurant-25353
END:VEVENT

END:VCALENDAR
