BEGIN:VCALENDAR
VERSION:2.0
PRODID:-//ChamberMaster//Event Calendar 2.0//EN
METHOD:PUBLISH
X-PUBLISHED-TTL:P3D
REFRESH-INTERVAL:P3D
CALSCALE:GREGORIAN
BEGIN:VEVENT
DTSTART:20230827T180000Z
DTEND:20230827T210000Z
X-MICROSOFT-CDO-ALLDAYEVENT:FALSE
SUMMARY:Emanuel Wynter LIVE at The Station
DESCRIPTION:Emanuel Wynter returns to Mocksville with smooth\, soulful sounds. Come out and enjoy a Sunday afternoon with drinks and live music.
X-ALT-DESC;FMTTYPE=text/html:<span style="color:#333333\;"><span style="font-size:18px\;"><span style="font-family:tahoma\;">Emanuel Wynter returns to Mocksville with smooth\, soulful sounds. Come out and enjoy a Sunday afternoon with drinks and live music.</span></span></span>
LOCATION:The Station
UID:e.2378.23201
SEQUENCE:3
DTSTAMP:20260425T201626Z
URL:https://business.daviechamber.com/events/details/emanuel-wynter-live-at-the-station-23201
END:VEVENT

END:VCALENDAR
