BEGIN:VCALENDAR
VERSION:2.0
PRODID:-//ChamberMaster//Event Calendar 2.0//EN
METHOD:PUBLISH
X-PUBLISHED-TTL:P3D
REFRESH-INTERVAL:P3D
CALSCALE:GREGORIAN
BEGIN:VEVENT
DTSTART:20260228T013000Z
DTEND:20260228T023000Z
X-MICROSOFT-CDO-ALLDAYEVENT:FALSE
SUMMARY:EMO Night | 4 Oaks
DESCRIPTION:FOR ONE NIGHT ONLY!!!\n\n4 Oaks in Mocksville is having an EMO NIGHT!!!!\n\nCome have a fun throwback back night with Carolina Clay & Bergenline as they cover all those favorite early 2000s emo/pop/punk hits!! Followed by Dance Music!\n\nTickets are only $10!
X-ALT-DESC;FMTTYPE=text/html:<span style="color: rgb(8\, 8\, 9)\; font-family: &quot\;Segoe UI Historic&quot\;\, &quot\;Segoe UI&quot\;\, Helvetica\, Arial\, sans-serif\; font-size: 15px\;">FOR ONE NIGHT ONLY!!!<br />\n4 Oaks in Mocksville is having an EMO NIGHT!!!!<br />\nCome have a fun throwback back night with Carolina Clay &amp\; Bergenline as they cover all those favorite early 2000s emo/pop/punk hits!! Followed by Dance Music!<br />\nTickets are only $10! </span><br />\n&nbsp\;
LOCATION:
UID:e.2378.30293
SEQUENCE:3
DTSTAMP:20260424T121114Z
URL:https://business.daviechamber.com/events/details/emo-night-4-oaks-30293
END:VEVENT

END:VCALENDAR
