BEGIN:VCALENDAR
VERSION:2.0
PRODID:-//ChamberMaster//Event Calendar 2.0//EN
METHOD:PUBLISH
X-PUBLISHED-TTL:P3D
REFRESH-INTERVAL:P3D
CALSCALE:GREGORIAN
BEGIN:VEVENT
DTSTART:20180929T130000Z
DTEND:20180929T180000Z
X-MICROSOFT-CDO-ALLDAYEVENT:FALSE
SUMMARY:Empowerment Bike Ride & Car/Truck Show
DESCRIPTION:Just HOPE is having our 1st annual bike ride and car/truck show to support our Women LEAD Program. Registration begins at 9am and motorcycles will leave the parking lot at 10am to complete the ride. We will have food and dessert vendors along with a bounce house and face painting for the kids! Registration forms for bikes and cars can be obtained at Just HOPE any day after 8/15/18.
X-ALT-DESC;FMTTYPE=text/html:Just HOPE is having our 1st annual bike ride and car/truck show to support our Women LEAD Program. Registration begins at 9am and motorcycles will leave the parking lot at 10am to complete the ride. We will have food and dessert vendors along with a bounce house and face painting for the kids! Registration forms for bikes and cars can be obtained at Just HOPE any day after 8/15/18.
LOCATION:Just Hope Mocksville 643 Wilkesboro Street Mocksville\, NC 27028
UID:e.2378.14397
SEQUENCE:3
DTSTAMP:20260421T093931Z
URL:https://business.daviechamber.com/events/details/empowerment-bike-ride-car-truck-show-14397
END:VEVENT

END:VCALENDAR
