BEGIN:VCALENDAR
VERSION:2.0
PRODID:-//ChamberMaster//Event Calendar 2.0//EN
METHOD:PUBLISH
X-PUBLISHED-TTL:P3D
REFRESH-INTERVAL:P3D
CALSCALE:GREGORIAN
BEGIN:VEVENT
DTSTART:20230825T220000Z
DTEND:20230826T010000Z
X-MICROSOFT-CDO-ALLDAYEVENT:FALSE
SUMMARY:End of Summer Concert & Party
DESCRIPTION:Join BRCC for our End of Summer Concert & Party on Friday\, August 25 at 6pm. We are having a Club Party Blow Out with a featured Jimmy Buffett Band\, Chef's One-of-a-Kind Caribbean creations\, and fun for ALL ages! This is open to our Members & Guests\, registration is required via the member's website or the app.
X-ALT-DESC;FMTTYPE=text/html:<span style="font-size:18px\;"><span style="font-family:tahoma\;"><span style="color:#333333\;">Join BRCC for our End of Summer Concert &amp\; Party on Friday\, August 25 at 6pm. We are having a Club Party Blow Out with a featured Jimmy Buffett Band\, Chef&#39\;s One-of-a-Kind Caribbean creations\, and fun for ALL ages! This is open to our Members &amp\; Guests\, registration is required via the member&#39\;s website or the app.&nbsp\;</span></span></span>
LOCATION:Bermuda Run Country Club
UID:e.2378.23167
SEQUENCE:3
DTSTAMP:20260425T201644Z
URL:https://business.daviechamber.com/events/details/end-of-summer-concert-party-23167
END:VEVENT

END:VCALENDAR
