BEGIN:VCALENDAR
VERSION:2.0
PRODID:-//ChamberMaster//Event Calendar 2.0//EN
METHOD:PUBLISH
X-PUBLISHED-TTL:P3D
REFRESH-INTERVAL:P3D
CALSCALE:GREGORIAN
BEGIN:VEVENT
DTSTART:20230708T200000Z
DTEND:20230709T000000Z
X-MICROSOFT-CDO-ALLDAYEVENT:FALSE
SUMMARY:Eric & K's BBQ Food Truck
DESCRIPTION:Old fashioned soul food.
X-ALT-DESC;FMTTYPE=text/html:<span style="font-size:16px\;"><span style="font-family:tahoma\;"><span style="color: rgb(5\, 5\, 5)\;">Old fashioned soul food.</span></span></span>
LOCATION:The Station
UID:e.2378.23057
SEQUENCE:3
DTSTAMP:20260425T214955Z
URL:https://business.daviechamber.com/events/details/eric-k-s-bbq-food-truck-23057
END:VEVENT

END:VCALENDAR
