BEGIN:VCALENDAR
VERSION:2.0
PRODID:-//ChamberMaster//Event Calendar 2.0//EN
METHOD:PUBLISH
X-PUBLISHED-TTL:P3D
REFRESH-INTERVAL:P3D
CALSCALE:GREGORIAN
BEGIN:VEVENT
DTSTART:20230807T200000Z
DTEND:20230808T000000Z
X-MICROSOFT-CDO-ALLDAYEVENT:FALSE
SUMMARY:Eric & K's BBQ Food Truck | Cruise In Downtown
DESCRIPTION:Cruise in night.
X-ALT-DESC;FMTTYPE=text/html:<span style="font-size:18px\;"><span style="font-family:tahoma\;"><span style="color:#333333\;">Cruise in night.</span></span></span>
LOCATION:The Station
UID:e.2378.23140
SEQUENCE:3
DTSTAMP:20260425T201854Z
URL:https://business.daviechamber.com/events/details/eric-k-s-bbq-food-truck-cruise-in-downtown-23140
END:VEVENT

END:VCALENDAR
