BEGIN:VCALENDAR
VERSION:2.0
PRODID:-//ChamberMaster//Event Calendar 2.0//EN
METHOD:PUBLISH
X-PUBLISHED-TTL:P3D
REFRESH-INTERVAL:P3D
CALSCALE:GREGORIAN
BEGIN:VEVENT
DTSTART:20230826T213000Z
DTEND:20230827T003000Z
X-MICROSOFT-CDO-ALLDAYEVENT:FALSE
SUMMARY:Eric & K's Food Truck | Hotdogs\, BBQ Sandwiches & Fries
DESCRIPTION:End of Summer Weenie Roast - 90's Concert 7-10!
X-ALT-DESC;FMTTYPE=text/html:<span style="font-size:18px\;"><span style="font-family:tahoma\;"><span style="color:#333333\;">End of Summer Weenie Roast - 90&#39\;s Concert 7-10!</span></span></span>
LOCATION:The Station
UID:e.2378.23209
SEQUENCE:3
DTSTAMP:20260425T202053Z
URL:https://business.daviechamber.com/events/details/eric-k-s-food-truck-hotdogs-bbq-sandwiches-fries-23209
END:VEVENT

END:VCALENDAR
