BEGIN:VCALENDAR
VERSION:2.0
PRODID:-//ChamberMaster//Event Calendar 2.0//EN
METHOD:PUBLISH
X-PUBLISHED-TTL:P3D
REFRESH-INTERVAL:P3D
CALSCALE:GREGORIAN
BEGIN:VEVENT
DTSTART:20251025T200000Z
DTEND:20251026T000000Z
X-MICROSOFT-CDO-ALLDAYEVENT:FALSE
SUMMARY:Fall Community Day - Trunk or Treat | Cooleemee
DESCRIPTION:Fire Safety Education\, Fire/Rescue Demonstrations\, free hotdogs and drinks\, Emergency Vehicles on display\, Safety Smoke House\, Novant Helicopter Landing from 4-7pm\n\nTrunk or Treat will be from 7 to 8pm! Deck out your vehicles and bring a bunch of candy to hand out to the kids! We look forward to seeing everyone!
X-ALT-DESC;FMTTYPE=text/html:<div class="xdj266r x14z9mp xat24cr x1lziwak x1vvkbs" style="overflow-wrap: break-word\; margin-inline: 0px\; margin-bottom: 0px\; margin-top: 0px\; font-family: &quot\;Segoe UI Historic&quot\;\, &quot\;Segoe UI&quot\;\, Helvetica\, Arial\, sans-serif\; color: rgb(8\, 8\, 9)\; font-size: 15px\;"><span style="font-size:16px\;"><span style="font-family:tahoma\;">Fire Safety Education\, Fire/Rescue Demonstrations\, free hotdogs and drinks\, Emergency Vehicles on display\, Safety Smoke House\, Novant Helicopter Landing from 4-7pm</span></span></div>\n\n<div class="x14z9mp xat24cr x1lziwak x1vvkbs xtlvy1s" style="overflow-wrap: break-word\; margin-top: 0.5em\; margin-inline: 0px\; margin-bottom: 0px\; font-family: &quot\;Segoe UI Historic&quot\;\, &quot\;Segoe UI&quot\;\, Helvetica\, Arial\, sans-serif\; color: rgb(8\, 8\, 9)\; font-size: 15px\;"><span style="font-size:16px\;"><span style="font-family:tahoma\;">Trunk or Treat will be from 7 to 8pm! Deck out your vehicles and bring a bunch of candy to hand out to the kids! We look forward to seeing everyone!</span></span></div>\n
LOCATION:Cooleemee Fire Department | Cooleemee
UID:e.2378.28941
SEQUENCE:3
DTSTAMP:20260425T220949Z
URL:https://business.daviechamber.com/events/details/fall-community-day-trunk-or-treat-cooleemee-28941
END:VEVENT

END:VCALENDAR
