BEGIN:VCALENDAR
VERSION:2.0
PRODID:-//ChamberMaster//Event Calendar 2.0//EN
METHOD:PUBLISH
X-PUBLISHED-TTL:P3D
REFRESH-INTERVAL:P3D
CALSCALE:GREGORIAN
BEGIN:VEVENT
DTSTART:20151107T160000Z
DTEND:20151107T200000Z
X-MICROSOFT-CDO-ALLDAYEVENT:FALSE
SUMMARY:Fall Festival at Bermuda Commons Nursing and Rehab Center
DESCRIPTION:Please join us at Bermuda Commons Nsg. and Rehab Center for our Fall Festival. The following are just a few fun things you will find and can participate in: Pumpkin Decorating\, Silent Auction\, Dessert table\, Hot Dogs\, and Entertainment. Enjoy the afternoon at Bermuda Commons and help support our resident council!
X-ALT-DESC;FMTTYPE=text/html:Please join us at Bermuda Commons Nsg. and Rehab Center for our Fall Festival. The following are just a few fun things you will find and can participate in: Pumpkin Decorating\, Silent Auction\, Dessert table\, Hot Dogs\, and Entertainment. Enjoy the afternoon at Bermuda Commons and help support our resident council!
LOCATION:Bermuda Commons Nsg and Rehab Center 316 Hwy 801 South Advance\, NC 27006
UID:e.2378.4092
SEQUENCE:3
DTSTAMP:20260423T095531Z
URL:https://business.daviechamber.com/events/details/fall-festival-at-bermuda-commons-nursing-and-rehab-center-11-07-2015-4092
END:VEVENT

END:VCALENDAR
