BEGIN:VCALENDAR
VERSION:2.0
PRODID:-//ChamberMaster//Event Calendar 2.0//EN
METHOD:PUBLISH
X-PUBLISHED-TTL:P3D
REFRESH-INTERVAL:P3D
CALSCALE:GREGORIAN
BEGIN:VEVENT
DTSTART:20230708T000000Z
DTEND:20230708T020000Z
X-MICROSOFT-CDO-ALLDAYEVENT:FALSE
SUMMARY:Family Night: Glow Splash Party!!
DESCRIPTION:Join us Friday\, July 7th\, for a night at the Splashpad for the first-ever Family Night: Glow Splash Party!!\n\n\nThis a chance for families to enjoy our LED and glow lights for a night at our Splashpad! Grab the family and enjoy a fun-filled Friday night full of Music\, Snacks\, Games\, Glow Sticks\, and hours of unforgettable memories.
X-ALT-DESC;FMTTYPE=text/html:<div class="xdj266r x11i5rnm xat24cr x1mh8g0r x1vvkbs x126k92a">\n<div dir="auto" style="text-align:start">Join us Friday\, July 7th\, for a night at the Splashpad for the first-ever Family Night: Glow Splash Party!!</div>\n</div>\n\n<div dir="auto" style="text-align:start">This a chance for families to enjoy our LED and glow lights for a night at our Splashpad! Grab the family and enjoy a fun-filled Friday night full of Music\, Snacks\, Games\, Glow Sticks\, and hours of unforgettable memories.</div>\n
LOCATION:
UID:e.2378.23018
SEQUENCE:3
DTSTAMP:20260425T214854Z
URL:https://business.daviechamber.com/events/details/family-night-glow-splash-party-23018
END:VEVENT

END:VCALENDAR
