BEGIN:VCALENDAR
VERSION:2.0
PRODID:-//ChamberMaster//Event Calendar 2.0//EN
METHOD:PUBLISH
X-PUBLISHED-TTL:P3D
REFRESH-INTERVAL:P3D
CALSCALE:GREGORIAN
BEGIN:VEVENT
DTSTART:20160112T223000Z
DTEND:20160113T000000Z
X-MICROSOFT-CDO-ALLDAYEVENT:FALSE
SUMMARY:Family Support Network Information Session
DESCRIPTION:The Family Support Network of Greater Forsyth provides free support services to family members of children with special needs (medical\, developmental\, or other). Learn about the many services they provide\, all at no cost. FSNGC serves Forsyth and surrounding counties. Dinner is from 5:30-6pm followed by the program. Register by calling 336-528-0578 or email mkhajuria@cphs.org. Dinner provided at no charge.
X-ALT-DESC;FMTTYPE=text/html:The Family Support Network of Greater Forsyth provides free support services to family members of children with special needs (medical\, developmental\, or other). Learn about the many services they provide\, all at no cost. FSNGC serves Forsyth and surrounding counties. Dinner is from 5:30-6pm followed by the program. Register by calling 336-528-0578 or email mkhajuria@cphs.org. Dinner provided at no charge.
LOCATION:Davie Wellness Center 142 Gaither St
UID:e.2378.4528
SEQUENCE:3
DTSTAMP:20260422T030851Z
URL:https://business.daviechamber.com/events/details/family-support-network-information-session-01-12-2016-4528
END:VEVENT

END:VCALENDAR
