BEGIN:VCALENDAR
VERSION:2.0
PRODID:-//ChamberMaster//Event Calendar 2.0//EN
METHOD:PUBLISH
X-PUBLISHED-TTL:P3D
REFRESH-INTERVAL:P3D
CALSCALE:GREGORIAN
BEGIN:VEVENT
DTSTART:20250518T120000Z
DTEND:20250518T210000Z
X-MICROSOFT-CDO-ALLDAYEVENT:FALSE
SUMMARY:Fast Times at Farmington | Farmington Dragway
DESCRIPTION:May 18th.\n\nWe would like to invite you out to Fast Times at Farmington on Sunday May 18th.\n\nThis huge collection of Beetles\, Buses and more will be held at Farmington Dragway in Mocksville\, NC.\n\n.\n\nCome out and enjoy looking at all the Volkswagens\, seeing some FAST VWs going down the dragstrip and maybe get some parts for your VW or something for your collection.\n\n.\n\nWe would love to have you! Hope to see you there!\n\n\n\nDate: Sunday May 18th\n\nTime: 8am-4pm\n\nPlace: Farmington Dragway\n\n2992 NC Highway 801 N\, Mocksville\, NC\n\n$15 Spectator fee (kids 12 & under free)\n\n\n\nALL EVENT INFO HERE
X-ALT-DESC;FMTTYPE=text/html:<div class="x11i5rnm xat24cr x1mh8g0r x1vvkbs xtlvy1s x126k92a" style="margin: 0.5em 0px 0px\; overflow-wrap: break-word\; white-space-collapse: preserve\; font-family: &quot\;Segoe UI Historic&quot\;\, &quot\;Segoe UI&quot\;\, Helvetica\, Arial\, sans-serif\; color: rgb(8\, 8\, 9)\; font-size: 15px\;">\n<div dir="auto" style="font-family: inherit\;"><span style="font-size:18px\;"><span style="font-family:tahoma\;"><span style="color:#000000\;">May 18th.</span></span></span></div>\n\n<div dir="auto" style="font-family: inherit\;"><span style="font-size:18px\;"><span style="font-family:tahoma\;"><span style="color:#000000\;">We would like to invite you out to Fast Times at Farmington on Sunday May 18th.</span></span></span></div>\n\n<div dir="auto" style="font-family: inherit\;"><span style="font-size:18px\;"><span style="font-family:tahoma\;"><span style="color:#000000\;">This </span><span style="color:#000000\;">huge collection of Beetles\, Buses and more will be held at Farmington Dragway in Mocksville\, NC.</span></span></span></div>\n\n<div dir="auto" style="font-family: inherit\;"><span style="font-size:18px\;"><span style="font-family:tahoma\;"><span style="color:#000000\;">.</span></span></span></div>\n\n<div dir="auto" style="font-family: inherit\;"><span style="font-size:18px\;"><span style="font-family:tahoma\;"><span style="color:#000000\;">Come out and enjoy looking at all the Volkswagens\, seeing some FAST VWs going down the dragstrip and maybe get some parts for your VW or something for your collection.</span></span></span></div>\n\n<div dir="auto" style="font-family: inherit\;"><span style="font-size:18px\;"><span style="font-family:tahoma\;"><span style="color:#000000\;">.</span></span></span></div>\n\n<div dir="auto" style="font-family: inherit\;"><span style="font-size:18px\;"><span style="font-family:tahoma\;"><span style="color:#000000\;">We would love to have you! Hope to see you there!</span></span></span></div>\n</div>\n\n<div class="x11i5rnm xat24cr x1mh8g0r x1vvkbs xtlvy1s x126k92a" style="margin: 0.5em 0px 0px\; overflow-wrap: break-word\; white-space-collapse: preserve\; font-family: &quot\;Segoe UI Historic&quot\;\, &quot\;Segoe UI&quot\;\, Helvetica\, Arial\, sans-serif\; color: rgb(8\, 8\, 9)\; font-size: 15px\;">\n<div dir="auto" style="font-family: inherit\;"><span style="font-size:18px\;"><span style="font-family:tahoma\;"><span style="color:#000000\;">Date: Sunday May 18th</span></span></span></div>\n\n<div dir="auto" style="font-family: inherit\;"><span style="font-size:18px\;"><span style="font-family:tahoma\;"><span style="color:#000000\;">Time: 8am-4pm</span></span></span></div>\n\n<div dir="auto" style="font-family: inherit\;"><span style="font-size:18px\;"><span style="font-family:tahoma\;"><span style="color:#000000\;">Place: Farmington Dragway</span></span></span></div>\n\n<div dir="auto" style="font-family: inherit\;"><span style="font-size:18px\;"><span style="font-family:tahoma\;"><span style="color:#000000\;">2992 NC Highway 801 N\, Mocksville\, NC</span></span></span></div>\n\n<div dir="auto" style="font-family: inherit\;"><span style="font-size:18px\;"><span style="font-family:tahoma\;"><span style="color:#000000\;">$15 Spectator fee (kids 12 &amp\; under free)</span></span></span></div>\n</div>\n\n<div class="x11i5rnm xat24cr x1mh8g0r x1vvkbs xtlvy1s x126k92a" style="margin: 0.5em 0px 0px\; overflow-wrap: break-word\; white-space-collapse: preserve\; font-family: &quot\;Segoe UI Historic&quot\;\, &quot\;Segoe UI&quot\;\, Helvetica\, Arial\, sans-serif\; color: rgb(8\, 8\, 9)\; font-size: 15px\;">\n<div dir="auto" style="font-family: inherit\;"><span style="font-size:18px\;"><span style="font-family:tahoma\;"><span style="color:#000000\;">ALL EVENT INFO HERE</span></span></span></div>\n</div>\n
LOCATION:Farmington Dragway
UID:e.2378.27281
SEQUENCE:3
DTSTAMP:20260426T005529Z
URL:https://business.daviechamber.com/events/details/fast-times-at-farmington-farmington-dragway-27281
END:VEVENT

END:VCALENDAR
