BEGIN:VCALENDAR
VERSION:2.0
PRODID:-//ChamberMaster//Event Calendar 2.0//EN
METHOD:PUBLISH
X-PUBLISHED-TTL:P3D
REFRESH-INTERVAL:P3D
CALSCALE:GREGORIAN
BEGIN:VEVENT
DTSTART:20181020T130000Z
DTEND:20181020T160000Z
X-MICROSOFT-CDO-ALLDAYEVENT:FALSE
SUMMARY:Feed "The Beast" Shredding Event
DESCRIPTION:Bermuda Garden Club invites you to bring all of your personal confidential papers to be eaten (shredded) by their mobile truck "The Beast". Location will be at the Bermuda Run Town Center Parking Area.\n\n\n\nCost is $5 per brown grocery bag or equivalent size box. CASH ONLY. Proceeds will go to the many Davie County Community programs!\n\nFor more information\, call Marie at 336.650.5518
X-ALT-DESC;FMTTYPE=text/html:Bermuda Garden Club invites you to bring all of your personal confidential papers to be eaten (shredded) by their mobile truck &quot\;The Beast&quot\;. Location will be at the Bermuda Run Town Center Parking Area.<br />\n<br />\nCost is $5 per brown grocery bag or equivalent size box. CASH ONLY. Proceeds will go to the many Davie County Community programs!<br />\nFor more information\, call Marie at 336.650.5518
LOCATION:Bermuda Run Town Center Parking Area 120 Kinderton Blvd (off Hwy 158)
UID:e.2378.14652
SEQUENCE:3
DTSTAMP:20260421T092444Z
URL:https://business.daviechamber.com/events/details/feed-the-beast-shredding-event-14652
END:VEVENT

END:VCALENDAR
