BEGIN:VCALENDAR
VERSION:2.0
PRODID:-//ChamberMaster//Event Calendar 2.0//EN
METHOD:PUBLISH
X-PUBLISHED-TTL:P3D
REFRESH-INTERVAL:P3D
CALSCALE:GREGORIAN
BEGIN:VEVENT
DTSTART:20170721T220000Z
DTEND:20170722T020000Z
X-MICROSOFT-CDO-ALLDAYEVENT:FALSE
SUMMARY:Fill the Dash Stands w/Cans!
DESCRIPTION:Please bring your non-expired\, non-perishable food items to each games to help end hunger in the Triad.  Together WE CAN MAKE A DIFFERENCE!!\n\n\n\nGates open at 6pm - game begins at 7pm.\n\nPTAA's Annual Night at the Ballpark!!\n\n$10 general admission: please purchase your tickets from PTAA as this money goes to the food drive!!
X-ALT-DESC;FMTTYPE=text/html:Please bring your non-expired\, non-perishable food items to each games to help end hunger in the Triad.&nbsp\; Together WE CAN MAKE A DIFFERENCE!!<br />\n<br />\nGates open at 6pm - game begins at 7pm.<br />\nPTAA&#39\;s Annual Night at the Ballpark!!<br />\n$10 general admission: please purchase your tickets from PTAA as this money goes to the food drive!!
LOCATION:Winston-Salem Dash
UID:e.2378.12026
SEQUENCE:3
DTSTAMP:20260422T043907Z
URL:https://business.daviechamber.com/events/details/fill-the-dash-stands-w-cans-12026
END:VEVENT

END:VCALENDAR
