BEGIN:VCALENDAR
VERSION:2.0
PRODID:-//ChamberMaster//Event Calendar 2.0//EN
METHOD:PUBLISH
X-PUBLISHED-TTL:P3D
REFRESH-INTERVAL:P3D
CALSCALE:GREGORIAN
BEGIN:VEVENT
DTSTART:20151009T140000Z
DTEND:20151009T150000Z
X-MICROSOFT-CDO-ALLDAYEVENT:FALSE
SUMMARY:Fire Safety Day @ Smart Start of Davie County
DESCRIPTION:Fire Safety Day!\n\nThis is a FREE community event hosted by Smart Start of Davie County\, Mocksville Fire Department\, & Center Fire Department.
X-ALT-DESC;FMTTYPE=text/html:Fire Safety Day!<br />\nThis is a FREE community event hosted by Smart Start of Davie County\, Mocksville Fire Department\, &amp\; Center Fire Department.
LOCATION:Smart Start of Davie County 1278 Yadkinville Road Mocksville\, NC 27028
UID:e.2378.937
SEQUENCE:3
DTSTAMP:20260422T072728Z
URL:https://business.daviechamber.com/events/details/fire-safety-day-smart-start-of-davie-county-10-09-2015-937
END:VEVENT

END:VCALENDAR
