BEGIN:VCALENDAR
VERSION:2.0
PRODID:-//ChamberMaster//Event Calendar 2.0//EN
METHOD:PUBLISH
X-PUBLISHED-TTL:P3D
REFRESH-INTERVAL:P3D
CALSCALE:GREGORIAN
BEGIN:VEVENT
DTSTART:20230701T220000Z
DTEND:20230702T010000Z
X-MICROSOFT-CDO-ALLDAYEVENT:FALSE
SUMMARY:Fireworks & Concert in the Park: The Embers Ft. Craig Woolard & Springer and Cagle
DESCRIPTION:Make plans to attend one of the biggest events in Davie County!  Enjoy food trucks and beverages (available for purchase)\, live entertainment\, and the largest pyrotechnic firework show in the region.\n\nLive music will begin at 6 pm with Springer & Cagle\, followed by headliner\, The Embers FT Craig Woolard at 7:30 pm.
X-ALT-DESC;FMTTYPE=text/html:<div class="kvgmc6g5 cxmmr5t8 oygrvhab hcukyx3x c1et5uql" style="overflow-wrap: break-word\; margin: 0px\; font-family: &quot\;Segoe UI Historic&quot\;\, &quot\;Segoe UI&quot\;\, Helvetica\, Arial\, sans-serif\; color: rgb(5\, 5\, 5)\; font-size: 15px\;">Make plans to attend one of the biggest events in Davie County!&nbsp\; Enjoy food trucks and beverages (available for purchase)\, live entertainment\, and the largest pyrotechnic firework show in the region.<br />\nLive music will begin at 6 pm with Springer &amp\; Cagle\, followed by headliner\, The Embers FT Craig Woolard at 7:30 pm.</div>\n\n<div class="cxmmr5t8 oygrvhab hcukyx3x c1et5uql o9v6fnle" style="overflow-wrap: break-word\; margin: 0.5em 0px 0px\; font-family: &quot\;Segoe UI Historic&quot\;\, &quot\;Segoe UI&quot\;\, Helvetica\, Arial\, sans-serif\; color: rgb(5\, 5\, 5)\; font-size: 15px\;">&nbsp\;</div>\n
LOCATION:Davie County Community Park
UID:e.2378.22897
SEQUENCE:3
DTSTAMP:20260425T215200Z
URL:https://business.daviechamber.com/events/details/fireworks-concert-in-the-park-the-embers-ft-craig-woolard-springer-and-cagle-22897
END:VEVENT

END:VCALENDAR
