BEGIN:VCALENDAR
VERSION:2.0
PRODID:-//ChamberMaster//Event Calendar 2.0//EN
METHOD:PUBLISH
X-PUBLISHED-TTL:P3D
REFRESH-INTERVAL:P3D
CALSCALE:GREGORIAN
BEGIN:VEVENT
DTSTART:20160507T210000Z
DTEND:20160507T230000Z
X-MICROSOFT-CDO-ALLDAYEVENT:FALSE
SUMMARY:Flounder Fish Fry
DESCRIPTION:
X-ALT-DESC;FMTTYPE=text/html:
LOCATION:Cooleemee School Cafeteria 136 Marginal Street\, Cooleemee
UID:e.2378.5144
SEQUENCE:3
DTSTAMP:20260423T004732Z
URL:https://business.daviechamber.com/events/details/flounder-fish-fry-05-07-2016-5144
END:VEVENT

END:VCALENDAR
