BEGIN:VCALENDAR
VERSION:2.0
PRODID:-//ChamberMaster//Event Calendar 2.0//EN
METHOD:PUBLISH
X-PUBLISHED-TTL:P3D
REFRESH-INTERVAL:P3D
CALSCALE:GREGORIAN
BEGIN:VEVENT
DTSTART:20170215T230000Z
DTEND:20170215T230000Z
X-MICROSOFT-CDO-ALLDAYEVENT:FALSE
SUMMARY:Food for the Heart Cooking Class @ Davie Medical Center
DESCRIPTION:February is National Heart Month\, and the perfect time to learn how to protect your heart from disease with foods that strengthen your heart. Join BestHealth's Certified Chef N'gai to learn more. Recipes will be provided. Pre-registration is required.
X-ALT-DESC;FMTTYPE=text/html:February is National Heart Month\, and the perfect time to learn how to protect your heart from disease with foods that strengthen your heart. Join BestHealth&#39\;s Certified&nbsp\;Chef N&#39\;gai to learn more. Recipes will be provided. Pre-registration is required.
LOCATION:Wake Forest Baptist Health - Davie Medical Center Plaza 1\, 1st Floor\, Cardiac Classroom 313 NC Hwy 801 N Bermuda Run\, NC 27006
UID:e.2378.10911
SEQUENCE:3
DTSTAMP:20260421T103544Z
URL:https://business.daviechamber.com/events/details/food-for-the-heart-cooking-class-davie-medical-center-10911
END:VEVENT

END:VCALENDAR
