BEGIN:VCALENDAR
VERSION:2.0
PRODID:-//ChamberMaster//Event Calendar 2.0//EN
METHOD:PUBLISH
X-PUBLISHED-TTL:P3D
REFRESH-INTERVAL:P3D
CALSCALE:GREGORIAN
BEGIN:VEVENT
DTSTART:20250815T200000Z
DTEND:20250816T000000Z
X-MICROSOFT-CDO-ALLDAYEVENT:FALSE
SUMMARY:Food Truck Fridays | Bermuda Run
DESCRIPTION:Live Music - Food Trucks - Vendors - Kids Activities & more to come!!\n\nHead on over to Kinderton Village in Bermuda Run for a fun Friday night!
X-ALT-DESC;FMTTYPE=text/html:<div class="x14z9mp xat24cr x1lziwak x1vvkbs xtlvy1s x126k92a" style="margin: 0.5em 0px 0px\; overflow-wrap: break-word\; white-space-collapse: preserve\; font-family: &quot\;Segoe UI Historic&quot\;\, &quot\;Segoe UI&quot\;\, Helvetica\, Arial\, sans-serif\; color: rgb(8\, 8\, 9)\; font-size: 15px\;">\n<div dir="auto" style="font-family: inherit\;">Live Music - Food Trucks - Vendors - Kids Activities &amp\; more to come!!<br />\nHead on over to Kinderton Village in Bermuda Run for a fun Friday night!</div>\n</div>\n
LOCATION:Bermuda Run
UID:e.2378.28052
SEQUENCE:3
DTSTAMP:20260425T190555Z
URL:https://business.daviechamber.com/events/details/food-truck-fridays-bermuda-run-28052
END:VEVENT

END:VCALENDAR
