BEGIN:VCALENDAR
VERSION:2.0
PRODID:-//ChamberMaster//Event Calendar 2.0//EN
METHOD:PUBLISH
X-PUBLISHED-TTL:P3D
REFRESH-INTERVAL:P3D
CALSCALE:GREGORIAN
BEGIN:VEVENT
DTSTART:20170314T130000Z
DTEND:20170314T170000Z
X-MICROSOFT-CDO-ALLDAYEVENT:FALSE
SUMMARY:For Your Health Expo
DESCRIPTION:You're invited to attend the Davie County Chamber of Commerce For Your Health Expo on Tuesday\, March 14\, 2017 from 9:00 am to 1:00 pm at the Davie Family YMCA.\n\n\n\nFor anyone interested in being a vendor\, contact the Davie County Chamber of Commerce at 336.751.3304 or chamber@daviecounty.com.
X-ALT-DESC;FMTTYPE=text/html:<div>You&#39\;re invited to attend the Davie County Chamber of Commerce <strong><em>For Your Health Expo</em></strong> on Tuesday\, March 14\, 2017 from 9:00 am to 1:00 pm at the Davie Family YMCA.<br />\n<br />\nFor anyone interested in being a vendor\, contact the Davie County Chamber of Commerce at 336.751.3304 or chamber@daviecounty.com.</div>\n
LOCATION:Davie Family YMCA 215 Cemetery Street Mocksville\, NC 27028
UID:e.2378.11238
SEQUENCE:3
DTSTAMP:20260421T103227Z
URL:https://business.daviechamber.com/events/details/for-your-health-expo-11238
END:VEVENT

END:VCALENDAR
