BEGIN:VCALENDAR
VERSION:2.0
PRODID:-//ChamberMaster//Event Calendar 2.0//EN
METHOD:PUBLISH
X-PUBLISHED-TTL:P3D
REFRESH-INTERVAL:P3D
CALSCALE:GREGORIAN
BEGIN:VEVENT
DTSTART:20260315T180000Z
DTEND:20260315T210000Z
X-MICROSOFT-CDO-ALLDAYEVENT:FALSE
SUMMARY:Foraging with Robin Greenfield | River Park at Cooleemee Falls
DESCRIPTION:Join us for an eye-opening exploration of food sovereignty through the food and medicine that is growing abundantly all around us.\n\n\n\n\n\nJoin us on the South Yadkin River for a powerful and eye-opening afternoon with activist and forager\, Robin Greenfield.\n\nFor one full year\, Robin is foraging 100% of his food and medicine. No grocery stores\, no restaurants\, no pharmacies\, and not even a garden. Nature is his pantry\, and this journey is a bold exploration of food sovereignty\, sustainability\, and living in harmony with the Earth.\n\nDuring this special stop in Rowan County\, Robin will share stories from his year of foraging\, the lessons he's learned\, and how communities can build more resilient\, local food systems. He'll also introduce the 1 Million Community Fruit Trees Initiative\, a grassroots effort to plant fruit trees and increase access to fresh\, local food.\n\nIn a time when many people feel overwhelmed by environmental and social challenges\, this event is a call to reconnect with our communities\, our food\, and the Earth itself.\n\nWhat to expect:\n\n- Inspiring talk about foraging and food sovereignty\n\n- Q&A with Robin\n\n- Community gathering and conversation\n\n- Book signing and meet-and-greet\n\n- Display of real foods and medicines Robin has foraged\n\nRobin's Food Freedom book will be available on a donation basis\, with 100% of profits supporting Indigenous and Black-led food sovereignty initiatives through Gardens of Liberation.\n\nSchedule:\n\n- 45 60 minute talk\n\n- 30 minute Q&A\n\n- 1 hour community time + book signing\n\nAdmission:\n\nThis event is FREE to attend. Optional suggested donations of $10-$40 will support the 1 Million Community Fruit Trees Initiative\, helping plant trees in communities along the tour.
X-ALT-DESC;FMTTYPE=text/html:<div class="StructuredModuleRenderer_structuredContent__k7mNB StructuredModuleRenderer_text__GaXOv" data-testid="text-content" style="box-sizing: border-box\; padding: 0px\; margin: 0px\; color: rgb(88\, 81\, 99)\; align-self: stretch\; overflow: hidden\; text-overflow: ellipsis\; line-height: 23.94px\; letter-spacing: 0.1px\; font-size: 18px\; font-family: &quot\;Neue Plak&quot\;\, -apple-system\, BlinkMacSystemFont\, Roboto\, &quot\;Helvetica Neue&quot\;\, Helvetica\, Tahoma\, Arial\, sans-serif\;">\n<div style="box-sizing: border-box\; padding: 0px\; margin: 0px\;">\n<p style="box-sizing: border-box\; padding: 0px 0px 12px\; margin: 0px\;"><span style="font-size:16px\;"><span style="font-family:arial\;">Join us for an eye-opening exploration of food sovereignty through the food and medicine that is growing abundantly all around us.</span></span></p>\n</div>\n</div>\n\n<div class="StructuredModuleRenderer_structuredContent__k7mNB StructuredModuleRenderer_text__GaXOv" data-testid="text-content" style="box-sizing: border-box\; padding: 0px\; margin: 0px\; color: rgb(88\, 81\, 99)\; align-self: stretch\; overflow: hidden\; text-overflow: ellipsis\; line-height: 23.94px\; letter-spacing: 0.1px\; font-size: 18px\; font-family: &quot\;Neue Plak&quot\;\, -apple-system\, BlinkMacSystemFont\, Roboto\, &quot\;Helvetica Neue&quot\;\, Helvetica\, Tahoma\, Arial\, sans-serif\;">\n<div style="box-sizing: border-box\; padding: 0px\; margin: 0px\;">\n<p style="box-sizing: border-box\; padding: 0px 0px 12px\; margin: 0px\;"><span style="font-size:16px\;"><span style="font-family:arial\;">Join us on the South Yadkin River for a powerful and eye-opening afternoon with activist and forager\, Robin Greenfield.</span></span></p>\n\n<p style="box-sizing: border-box\; padding: 0px 0px 12px\; margin: 12px 0px 0px\;"><span style="font-size:16px\;"><span style="font-family:arial\;">For one full year\, Robin is foraging 100% of his food and medicine. No grocery stores\, no restaurants\, no pharmacies\, and not even a garden. Nature is his pantry\, and this journey is a bold exploration of food sovereignty\, sustainability\, and living in harmony with the Earth.</span></span></p>\n\n<p style="box-sizing: border-box\; padding: 0px 0px 12px\; margin: 12px 0px 0px\;"><span style="font-size:16px\;"><span style="font-family:arial\;">During this special stop in Rowan County\, Robin will share stories from his year of foraging\, the lessons he&rsquo\;s learned\, and how communities can build more resilient\, local food systems. He&rsquo\;ll also introduce the 1 Million Community Fruit Trees Initiative\, a grassroots effort to plant fruit trees and increase access to fresh\, local food.</span></span></p>\n\n<p style="box-sizing: border-box\; padding: 0px 0px 12px\; margin: 12px 0px 0px\;"><span style="font-size:16px\;"><span style="font-family:arial\;">In a time when many people feel overwhelmed by environmental and social challenges\, this event is a call to reconnect with our communities\, our food\, and the Earth itself.</span></span></p>\n\n<p style="box-sizing: border-box\; padding: 0px 0px 12px\; margin: 12px 0px 0px\;"><span style="font-size:16px\;"><span style="font-family:arial\;">What to expect:<br style="box-sizing: border-box\; padding: 0px\; margin: 0px\;" />\n- Inspiring talk about foraging and food sovereignty<br style="box-sizing: border-box\; padding: 0px\; margin: 0px\;" />\n- Q&amp\;A with Robin<br style="box-sizing: border-box\; padding: 0px\; margin: 0px\;" />\n- Community gathering and conversation<br style="box-sizing: border-box\; padding: 0px\; margin: 0px\;" />\n- Book signing and meet-and-greet<br style="box-sizing: border-box\; padding: 0px\; margin: 0px\;" />\n- Display of real foods and medicines Robin has foraged</span></span></p>\n\n<p style="box-sizing: border-box\; padding: 0px 0px 12px\; margin: 12px 0px 0px\;"><span style="font-size:16px\;"><span style="font-family:arial\;">Robin&rsquo\;s Food Freedom book will be available on a donation basis\, with 100% of profits supporting Indigenous and Black-led food sovereignty initiatives through Gardens of Liberation.</span></span></p>\n\n<p style="box-sizing: border-box\; padding: 0px 0px 12px\; margin: 12px 0px 0px\;"><span style="font-size:16px\;"><span style="font-family:arial\;">Schedule:<br style="box-sizing: border-box\; padding: 0px\; margin: 0px\;" />\n- 45&ndash\;60 minute talk<br style="box-sizing: border-box\; padding: 0px\; margin: 0px\;" />\n- 30 minute Q&amp\;A<br style="box-sizing: border-box\; padding: 0px\; margin: 0px\;" />\n- 1 hour community time + book signing</span></span></p>\n\n<p style="box-sizing: border-box\; padding: 0px 0px 12px\; margin: 12px 0px 0px\;"><span style="font-size:16px\;"><span style="font-family:arial\;">Admission:<br style="box-sizing: border-box\; padding: 0px\; margin: 0px\;" />\nThis event is FREE to attend. Optional suggested donations of $10-$40 will support the 1 Million Community Fruit Trees Initiative\, helping plant trees in communities along the tour.</span></span></p>\n</div>\n</div>\n
LOCATION:
UID:e.2378.30453
SEQUENCE:3
DTSTAMP:20260424T105455Z
URL:https://business.daviechamber.com/events/details/foraging-with-robin-greenfield-river-park-at-cooleemee-falls-30453
END:VEVENT

END:VCALENDAR
