BEGIN:VCALENDAR
VERSION:2.0
PRODID:-//ChamberMaster//Event Calendar 2.0//EN
METHOD:PUBLISH
X-PUBLISHED-TTL:P3D
REFRESH-INTERVAL:P3D
CALSCALE:GREGORIAN
BEGIN:VEVENT
DTSTART:20161203T130000Z
DTEND:20161203T190000Z
X-MICROSOFT-CDO-ALLDAYEVENT:FALSE
SUMMARY:Freezin' for a Reason
DESCRIPTION:Pancake Breakfast (donation only) Pictures with Santa and Mrs. Claus Obstacle Course Competition for individuals or teams of 4! Prizes to winners! FREE Kids Obstacle Course Deli Lunch (donation only) Finish day with a Polar Plunge. Event Tee Shirts available for purchase on site during event. ALL Proceeds to benefit Tommy Mitchell and his family! Tommy is a local Davie County man\, husband\, father of 2 with stage 4 colon cancer.
X-ALT-DESC;FMTTYPE=text/html:Pancake Breakfast (donation only) Pictures with Santa and Mrs. Claus Obstacle Course Competition for individuals or teams of 4! Prizes to winners! FREE Kids Obstacle Course Deli Lunch (donation only) Finish day with a Polar Plunge. Event Tee Shirts available for purchase on site during event. ALL Proceeds to benefit Tommy Mitchell and his family! Tommy is a local Davie County man\, husband\, father of 2 with stage 4 colon cancer.
LOCATION:Camp Manna 243 Gibson Way Mocksville\, NC 27028
UID:e.2378.10575
SEQUENCE:3
DTSTAMP:20260422T141127Z
URL:https://business.daviechamber.com/events/details/freezin-for-a-reason-10575
END:VEVENT

END:VCALENDAR
