BEGIN:VCALENDAR
VERSION:2.0
PRODID:-//ChamberMaster//Event Calendar 2.0//EN
METHOD:PUBLISH
X-PUBLISHED-TTL:P3D
REFRESH-INTERVAL:P3D
CALSCALE:GREGORIAN
BEGIN:VEVENT
DTSTART:20230707T213000Z
DTEND:20230708T003000Z
X-MICROSOFT-CDO-ALLDAYEVENT:FALSE
SUMMARY:Friday Night Live - feat. CapnDar
DESCRIPTION:Enjoy live music by CapnDar and tasty food available for purchase from Wraps Around the World!\n\nMusic is complimentary and open to the public. Feel free to bring a lawn chair!\n\nNO outside alcohol\, food\, coolers\, balls\, scooters\, or bicycles are permitted. Rain or Shine.
X-ALT-DESC;FMTTYPE=text/html:<div class="xdj266r x11i5rnm xat24cr x1mh8g0r x1vvkbs" style="margin: 0px\; overflow-wrap: break-word\; font-family: &quot\;Segoe UI Historic&quot\;\, &quot\;Segoe UI&quot\;\, Helvetica\, Arial\, sans-serif\; color: rgb(5\, 5\, 5)\; font-size: 15px\;"><span style="font-size:16px\;"><span style="font-family:tahoma\;">Enjoy live music by CapnDar and tasty food available for purchase from Wraps Around the World!</span></span></div>\n\n<div class="x11i5rnm xat24cr x1mh8g0r x1vvkbs xtlvy1s" style="margin: 0.5em 0px 0px\; overflow-wrap: break-word\; font-family: &quot\;Segoe UI Historic&quot\;\, &quot\;Segoe UI&quot\;\, Helvetica\, Arial\, sans-serif\; color: rgb(5\, 5\, 5)\; font-size: 15px\;"><span style="font-size:16px\;"><span style="font-family:tahoma\;">Music is complimentary and open to the public. Feel free to bring a lawn chair!<br />\nNO outside alcohol\, food\, coolers\, balls\, scooters\, or bicycles are permitted. Rain or Shine.</span></span></div>\n
LOCATION:RayLen Vineyards & Winery
UID:e.2378.23061
SEQUENCE:3
DTSTAMP:20260425T214634Z
URL:https://business.daviechamber.com/events/details/friday-night-live-feat-capndar-23061
END:VEVENT

END:VCALENDAR
