BEGIN:VCALENDAR
VERSION:2.0
PRODID:-//ChamberMaster//Event Calendar 2.0//EN
METHOD:PUBLISH
X-PUBLISHED-TTL:P3D
REFRESH-INTERVAL:P3D
CALSCALE:GREGORIAN
BEGIN:VEVENT
DTSTART:20230804T213000Z
DTEND:20230805T003000Z
X-MICROSOFT-CDO-ALLDAYEVENT:FALSE
SUMMARY:Friday Night Music Club
DESCRIPTION:Join us for a fun evening supporting the Friday Night Music Club as they present Summer Songs in the Round! Jerry Chapman\, of Camel City Yacht Club\, will be leading the festivities as 5-6 singer/songwriter favorites will sing songs of the summertime. Cheese Boss will also be on site for all your cheesy needs!\n\nFNMC's monthly non-profit highlight goes to the SHINE! Theater Camp\, a local organization that hosts an annual theater camp for special-needs kids. Come show your support!\n\n \n\nMusic is complimentary and open to the public. Feel free to bring a lawn chair! NO outside alcohol\, coolers\, balls\, scooters\, or bicycles are permitted. Rain or Shine.
X-ALT-DESC;FMTTYPE=text/html:<div class="xdj266r x11i5rnm xat24cr x1mh8g0r x1vvkbs" style="margin: 0px\; overflow-wrap: break-word\; font-family: &quot\;Segoe UI Historic&quot\;\, &quot\;Segoe UI&quot\;\, Helvetica\, Arial\, sans-serif\; color: rgb(5\, 5\, 5)\; font-size: 15px\;"><span style="font-size:18px\;"><span style="font-family:tahoma\;"><span style="color:#333333\;">Join us for a fun evening supporting the Friday Night Music Club as they present Summer Songs in the Round! Jerry Chapman\, of Camel City Yacht Club\, will be leading the festivities as 5-6 singer/songwriter favorites will sing songs of the summertime. Cheese Boss will also be on site for all your cheesy needs!</span></span></span></div>\n\n<div class="x11i5rnm xat24cr x1mh8g0r x1vvkbs xtlvy1s" style="margin: 0.5em 0px 0px\; overflow-wrap: break-word\; font-family: &quot\;Segoe UI Historic&quot\;\, &quot\;Segoe UI&quot\;\, Helvetica\, Arial\, sans-serif\; color: rgb(5\, 5\, 5)\; font-size: 15px\;"><span style="font-size:18px\;"><span style="font-family:tahoma\;"><span style="color:#333333\;">FNMC&#39\;s monthly non-profit highlight goes to the SHINE! Theater Camp\, a local organization that hosts an annual theater camp for special-needs kids. Come show your support!</span></span></span></div>\n\n<div class="x11i5rnm xat24cr x1mh8g0r x1vvkbs xtlvy1s" style="margin: 0.5em 0px 0px\; overflow-wrap: break-word\; font-family: &quot\;Segoe UI Historic&quot\;\, &quot\;Segoe UI&quot\;\, Helvetica\, Arial\, sans-serif\; color: rgb(5\, 5\, 5)\; font-size: 15px\;">&nbsp\;</div>\n\n<div class="x11i5rnm xat24cr x1mh8g0r x1vvkbs xtlvy1s" style="margin: 0.5em 0px 0px\; overflow-wrap: break-word\; font-family: &quot\;Segoe UI Historic&quot\;\, &quot\;Segoe UI&quot\;\, Helvetica\, Arial\, sans-serif\; color: rgb(5\, 5\, 5)\; font-size: 15px\;"><span style="font-size:18px\;"><span style="font-family:tahoma\;"><span style="color:#333333\;">Music is complimentary and open to the public. Feel free to bring a lawn chair! NO outside alcohol\, coolers\, balls\, scooters\, or bicycles are permitted. Rain or Shine.</span></span></span></div>\n
LOCATION:RayLen Vineyards & Winery
UID:e.2378.23146
SEQUENCE:3
DTSTAMP:20260425T201602Z
URL:https://business.daviechamber.com/events/details/friday-night-music-club-23146
END:VEVENT

END:VCALENDAR
