BEGIN:VCALENDAR
VERSION:2.0
PRODID:-//ChamberMaster//Event Calendar 2.0//EN
METHOD:PUBLISH
X-PUBLISHED-TTL:P3D
REFRESH-INTERVAL:P3D
CALSCALE:GREGORIAN
BEGIN:VEVENT
DTSTART:20190503T210000Z
DTEND:20190504T020000Z
X-MICROSOFT-CDO-ALLDAYEVENT:FALSE
SUMMARY:Friday Night Test-n-Tune
DESCRIPTION:Friday night test-n-tune is back! Gates open at 5pm and testing will begin normally around 6pm.
X-ALT-DESC;FMTTYPE=text/html:Friday night test-n-tune is back! Gates open at 5pm and testing will begin normally around 6pm.
LOCATION:Farmington Dragway 2992 NC Hwy 801 N Mocksville
UID:e.2378.15740
SEQUENCE:3
DTSTAMP:20260419T140426Z
URL:https://business.daviechamber.com/events/details/friday-night-test-n-tune-15740
END:VEVENT

END:VCALENDAR
