BEGIN:VCALENDAR
VERSION:2.0
PRODID:-//ChamberMaster//Event Calendar 2.0//EN
METHOD:PUBLISH
X-PUBLISHED-TTL:P3D
REFRESH-INTERVAL:P3D
CALSCALE:GREGORIAN
BEGIN:VEVENT
DTSTART:20190517T210000Z
DTEND:20190518T020000Z
X-MICROSOFT-CDO-ALLDAYEVENT:FALSE
SUMMARY:Friday Night Test-N-Tune
DESCRIPTION:Friday Night-May 10th 6.0\, 6.5 and 7.0 Heads Up Index racing. Test n Tune Street Car Race and Motorcycle\n\nGates Open at 5pm and testing begins normally around 6pm.  Gate Fee is $10 for spectators and $20 for Racers. Kids 12 and under free admission.
X-ALT-DESC;FMTTYPE=text/html:<h1 style="border: 0px\; font-family: Lato\, sans-serif\; font-size: 26px\; font-weight: 700\; margin: 36px 0px 12px\; outline: 0px\; padding: 0px\; vertical-align: baseline\; clear: both\; line-height: 1.38462\; color: rgb(43\, 43\, 43)\;">Friday Night-May 10th 6.0\, 6.5 and 7.0 Heads Up Index racing. Test n Tune Street Car Race and Motorcycle</h1>\n\n<p style="border: 0px\; font-family: Lato\, sans-serif\; font-size: 16px\; margin: 0px 0px 24px\; outline: 0px\; padding: 0px\; vertical-align: baseline\; color: rgb(43\, 43\, 43)\;">Gates Open at 5pm and testing begins normally around 6pm.&nbsp\; Gate Fee is $10 for spectators and $20 for Racers. Kids 12 and under free admission.</p>\n
LOCATION:Farmington Dragway 2992 NC Hwy 801 N Mocksville
UID:e.2378.15748
SEQUENCE:3
DTSTAMP:20260419T141042Z
URL:https://business.daviechamber.com/events/details/friday-night-test-n-tune-15748
END:VEVENT

END:VCALENDAR
