BEGIN:VCALENDAR
VERSION:2.0
PRODID:-//ChamberMaster//Event Calendar 2.0//EN
METHOD:PUBLISH
X-PUBLISHED-TTL:P3D
REFRESH-INTERVAL:P3D
CALSCALE:GREGORIAN
BEGIN:VEVENT
DTSTART:20230826T160000Z
DTEND:20230827T010000Z
X-MICROSOFT-CDO-ALLDAYEVENT:FALSE
SUMMARY:Full Moon Festival
DESCRIPTION:Join us at RayLen Vineyards as we celebrate the arrival of the full moon with our annual Full Moon Festival!\n\nEnjoy this special tribute to the Eagles with live performances by The Vagabond Saints' Society\, The Plaids\, and Camel City Yacht Club. Delicious food for purchase will be available all day from the Salsarita's and Big Apes food trucks.\n\nWe will also be joined by Frosty Island for all your shaved ice needs and Sweet Magnolia Mercantile for your sweet tooth.\n\nGates open at 11am\, food trucks start serving at 12pm\, and music starts at 1pm. Set times posted below:\n\n-1:00pm-2:30pm: The Plaids\n\n-3:45pm-5:15pm: Camel City Yacht Club\n\n-6:00pm-8:30pm: The Vagabond Saints' Society\n\n \n\nTicket purchase is required for access to our vineyard this day and includes all-day entry to the event. Discounted Member pricing is limited to 2 tickets per membership- additional tickets will be charged at full price (you must be logged into your member account to get discounted tickets online). See ticket pricing below.\n\nTicket Pricing:\n\n~Non-Members: $20 per person ($25 at the door)\n\n~Case Club\, Cork Club\, and Cellarmaster Members: $15 per person ($20 at the door)\n\n~Premier Cru Members: Free ($10 at the door)\n\n~Children 12 and under: Free\n\nYou can purchase your tickets online by clicking the "Find Tickets" button\, or by calling the Tasting Room at (336) 998-3100.\n\n**Online ticket purchases will end on Friday\, August 25th at 5:00pm\, but you can still get your tickets at the door on Saturday!**\n\nALL SALES ARE FINAL: NO REFUNDS OR EXCHANGES. NON-TRANSFERABLE.\n\nOnce purchasing a ticket\, your name will be added to our guest list- you will NOT receive a physical or virtual ticket.\n\nFestival is rain or shine. Feel free to bring a lawn chair! NO outside alcohol\, food\, coolers\, balls\, scooters\, or bicycles are permitted.\n\n*Full wine tastings will not be offered this day*
X-ALT-DESC;FMTTYPE=text/html:<div class="xdj266r x11i5rnm xat24cr x1mh8g0r x1vvkbs" style="margin: 0px\; overflow-wrap: break-word\; font-family: &quot\;Segoe UI Historic&quot\;\, &quot\;Segoe UI&quot\;\, Helvetica\, Arial\, sans-serif\; color: rgb(5\, 5\, 5)\; font-size: 15px\;"><span style="color:#333333\;"><span style="font-size:18px\;"><span style="font-family:tahoma\;">Join us at RayLen Vineyards as we celebrate the arrival of the full moon with our annual Full Moon Festival!</span></span></span></div>\n\n<div class="x11i5rnm xat24cr x1mh8g0r x1vvkbs xtlvy1s" style="margin: 0.5em 0px 0px\; overflow-wrap: break-word\; font-family: &quot\;Segoe UI Historic&quot\;\, &quot\;Segoe UI&quot\;\, Helvetica\, Arial\, sans-serif\; color: rgb(5\, 5\, 5)\; font-size: 15px\;"><span style="color:#333333\;"><span style="font-size:18px\;"><span style="font-family:tahoma\;">Enjoy this special tribute to the Eagles with live performances by The Vagabond Saints&#39\; Society\, The Plaids\, and Camel City Yacht Club. Delicious food for purchase will be available all day from the Salsarita&#39\;s and Big Apes food trucks.<br />\nWe will also be joined by Frosty Island for all your shaved ice needs and Sweet Magnolia Mercantile for your sweet tooth.</span></span></span></div>\n\n<div class="x11i5rnm xat24cr x1mh8g0r x1vvkbs xtlvy1s" style="margin: 0.5em 0px 0px\; overflow-wrap: break-word\; font-family: &quot\;Segoe UI Historic&quot\;\, &quot\;Segoe UI&quot\;\, Helvetica\, Arial\, sans-serif\; color: rgb(5\, 5\, 5)\; font-size: 15px\;"><span style="color:#333333\;"><span style="font-size:18px\;"><span style="font-family:tahoma\;">Gates open at 11am\, food trucks start serving at 12pm\, and music starts at 1pm. Set times posted below:</span></span></span></div>\n\n<div class="x11i5rnm xat24cr x1mh8g0r x1vvkbs xtlvy1s" style="margin: 0.5em 0px 0px\; overflow-wrap: break-word\; font-family: &quot\;Segoe UI Historic&quot\;\, &quot\;Segoe UI&quot\;\, Helvetica\, Arial\, sans-serif\; color: rgb(5\, 5\, 5)\; font-size: 15px\;"><span style="color:#333333\;"><span style="font-size:18px\;"><span style="font-family:tahoma\;">-1:00pm-2:30pm: The Plaids<br />\n-3:45pm-5:15pm: Camel City Yacht Club<br />\n-6:00pm-8:30pm: The Vagabond Saints&#39\; Society</span></span></span></div>\n\n<div class="x11i5rnm xat24cr x1mh8g0r x1vvkbs xtlvy1s" style="margin: 0.5em 0px 0px\; overflow-wrap: break-word\; font-family: &quot\;Segoe UI Historic&quot\;\, &quot\;Segoe UI&quot\;\, Helvetica\, Arial\, sans-serif\; color: rgb(5\, 5\, 5)\; font-size: 15px\;">&nbsp\;</div>\n\n<div class="x11i5rnm xat24cr x1mh8g0r x1vvkbs xtlvy1s" style="margin: 0.5em 0px 0px\; overflow-wrap: break-word\; font-family: &quot\;Segoe UI Historic&quot\;\, &quot\;Segoe UI&quot\;\, Helvetica\, Arial\, sans-serif\; color: rgb(5\, 5\, 5)\; font-size: 15px\;"><span style="color:#333333\;"><span style="font-size:18px\;"><span style="font-family:tahoma\;">Ticket purchase is required for access to our vineyard this day and includes all-day entry to the event. Discounted Member pricing is limited to 2 tickets per membership- additional tickets will be charged at full price (you must be logged into your member account to get discounted tickets online). See ticket pricing below.</span></span></span></div>\n\n<div class="x11i5rnm xat24cr x1mh8g0r x1vvkbs xtlvy1s" style="margin: 0.5em 0px 0px\; overflow-wrap: break-word\; font-family: &quot\;Segoe UI Historic&quot\;\, &quot\;Segoe UI&quot\;\, Helvetica\, Arial\, sans-serif\; color: rgb(5\, 5\, 5)\; font-size: 15px\;"><span style="color:#333333\;"><span style="font-size:18px\;"><span style="font-family:tahoma\;">Ticket Pricing:<br />\n~Non-Members: $20 per person ($25 at the door)<br />\n~Case Club\, Cork Club\, and Cellarmaster Members: $15 per person ($20 at the door)<br />\n~Premier Cru Members: Free ($10 at the door)<br />\n~Children 12 and under: Free</span></span></span></div>\n\n<div class="x11i5rnm xat24cr x1mh8g0r x1vvkbs xtlvy1s" style="margin: 0.5em 0px 0px\; overflow-wrap: break-word\; font-family: &quot\;Segoe UI Historic&quot\;\, &quot\;Segoe UI&quot\;\, Helvetica\, Arial\, sans-serif\; color: rgb(5\, 5\, 5)\; font-size: 15px\;"><span style="color:#333333\;"><span style="font-size:18px\;"><span style="font-family:tahoma\;">You can purchase your tickets online by clicking the &quot\;Find Tickets&quot\; button\, or by calling the Tasting Room at (336) 998-3100.<br />\n**Online ticket purchases will end on Friday\, August 25th at 5:00pm\, but you can still get your tickets at the door on Saturday!**</span></span></span></div>\n\n<div class="x11i5rnm xat24cr x1mh8g0r x1vvkbs xtlvy1s" style="margin: 0.5em 0px 0px\; overflow-wrap: break-word\; font-family: &quot\;Segoe UI Historic&quot\;\, &quot\;Segoe UI&quot\;\, Helvetica\, Arial\, sans-serif\; color: rgb(5\, 5\, 5)\; font-size: 15px\;"><span style="color:#333333\;"><span style="font-size:18px\;"><span style="font-family:tahoma\;">ALL SALES ARE FINAL: NO REFUNDS OR EXCHANGES. NON-TRANSFERABLE.<br />\nOnce purchasing a ticket\, your name will be added to our guest list- you will NOT receive a physical or virtual ticket.</span></span></span></div>\n\n<div class="x11i5rnm xat24cr x1mh8g0r x1vvkbs xtlvy1s" style="margin: 0.5em 0px 0px\; overflow-wrap: break-word\; font-family: &quot\;Segoe UI Historic&quot\;\, &quot\;Segoe UI&quot\;\, Helvetica\, Arial\, sans-serif\; color: rgb(5\, 5\, 5)\; font-size: 15px\;"><span style="color:#333333\;"><span style="font-size:18px\;"><span style="font-family:tahoma\;">Festival is rain or shine. Feel free to bring a lawn chair! NO outside alcohol\, food\, coolers\, balls\, scooters\, or bicycles are permitted.<br />\n*Full wine tastings will not be offered this day*</span></span></span></div>\n
LOCATION:RayLen Vineyards & Winery
UID:e.2378.23210
SEQUENCE:3
DTSTAMP:20260425T201522Z
URL:https://business.daviechamber.com/events/details/full-moon-festival-23210
END:VEVENT

END:VCALENDAR
