BEGIN:VCALENDAR
VERSION:2.0
PRODID:-//ChamberMaster//Event Calendar 2.0//EN
METHOD:PUBLISH
X-PUBLISHED-TTL:P3D
REFRESH-INTERVAL:P3D
CALSCALE:GREGORIAN
BEGIN:VEVENT
DTSTART:20230713T223000Z
DTEND:20230714T000000Z
X-MICROSOFT-CDO-ALLDAYEVENT:FALSE
SUMMARY:Giggles & Glasses Comedy Night
DESCRIPTION:Join us for an evening filled with laughter and good times at RayLen Vineyards! We are excited to present a Comedy Night featuring the hilarious comedian Derrick Knopsnyder and his friends from the Uncorked Comedy Tour. Get ready for an evening of side-splitting jokes and witty humor that will leave you in stitches!\n\nDate: July 13th\, 2023\n\nTime: 6:30 - 8:00 pm\n\nThis event promises to be a delightful experience for everyone\, whether you're a member or a non-member. As a special perk\, members can enjoy up to two free tickets\, so make sure to take advantage of this exclusive offer and reserve your spot. This group is known to sell out shows! For non-members\, tickets are available for just $20.\n\nWhile you're enjoying the comedy show\, satisfy your cravings with the delicious offerings from the Havana Flavor food truck. Indulge in their mouthwatering delicacies\, adding a touch of culinary delight to your evening. Please refrain from bringing in outside food.\n\nDon't miss out on this memorable night of laughter\, great company\, and delectable food. Mark your calendars and spread the word\, as this comedy extravaganza at RayLen Vineyards is not to be missed!\n\nTicket Info:\n\n-Members: FREE (advanced reservations suggested- click the button to "purchase")\n\n-Non-Members: $20 per person ($25 at the door)\n\nMembers include: Case\, Cork\, Premier Cru\, and Cellarmaster\n\nNot a member? Click THIS LINK to learn about how you can join the Cellarmaster Club.\n\n*You must be logged into your member account to purchase your 2 free tickets online*\n\nPLEASE NOTE: After purchasing an event ticket\, your name will be added to our guest list for that event. You will NOT receive a physical or virtual ticket.\n\nAll RayLen event ticket sales are final with no returns\, exchanges or refunds.\n\nFor questions please call the tasting room (336) 998-3100 or Check out our FAQs page\n\nFeel free to bring a lawn chair! NO outside alcohol\, food\, coolers\, balls\, scooters\, or bicycles are permitted. Rain or Shine.
X-ALT-DESC;FMTTYPE=text/html:<div class="xdj266r x11i5rnm xat24cr x1mh8g0r x1vvkbs" style="margin: 0px\; overflow-wrap: break-word\; font-family: &quot\;Segoe UI Historic&quot\;\, &quot\;Segoe UI&quot\;\, Helvetica\, Arial\, sans-serif\; color: rgb(5\, 5\, 5)\; font-size: 15px\;"><span style="font-size:18px\;"><span style="color:#666666\;"><span style="font-family:tahoma\;">Join us for an evening filled with laughter and good times at RayLen Vineyards! We are excited to present a Comedy Night featuring the hilarious comedian Derrick Knopsnyder and his friends from the Uncorked Comedy Tour. Get ready for an evening of side-splitting jokes and witty humor that will leave you in stitches!</span></span></span></div>\n\n<div class="x11i5rnm xat24cr x1mh8g0r x1vvkbs xtlvy1s" style="margin: 0.5em 0px 0px\; overflow-wrap: break-word\; font-family: &quot\;Segoe UI Historic&quot\;\, &quot\;Segoe UI&quot\;\, Helvetica\, Arial\, sans-serif\; color: rgb(5\, 5\, 5)\; font-size: 15px\;"><span style="font-size:18px\;"><span style="color:#666666\;"><span style="font-family:tahoma\;">Date: July 13th\, 2023<br />\nTime: 6:30 - 8:00 pm</span></span></span></div>\n\n<div class="x11i5rnm xat24cr x1mh8g0r x1vvkbs xtlvy1s" style="margin: 0.5em 0px 0px\; overflow-wrap: break-word\; font-family: &quot\;Segoe UI Historic&quot\;\, &quot\;Segoe UI&quot\;\, Helvetica\, Arial\, sans-serif\; color: rgb(5\, 5\, 5)\; font-size: 15px\;"><span style="font-size:18px\;"><span style="color:#666666\;"><span style="font-family:tahoma\;">This event promises to be a delightful experience for everyone\, whether you&#39\;re a member or a non-member. As a special perk\, members can enjoy up to two free tickets\, so make sure to take advantage of this exclusive offer and reserve your spot. This group is known to sell out shows! For non-members\, tickets are available for just $20.</span></span></span></div>\n\n<div class="x11i5rnm xat24cr x1mh8g0r x1vvkbs xtlvy1s" style="margin: 0.5em 0px 0px\; overflow-wrap: break-word\; font-family: &quot\;Segoe UI Historic&quot\;\, &quot\;Segoe UI&quot\;\, Helvetica\, Arial\, sans-serif\; color: rgb(5\, 5\, 5)\; font-size: 15px\;"><span style="font-size:18px\;"><span style="color:#666666\;"><span style="font-family:tahoma\;">While you&#39\;re enjoying the comedy show\, satisfy your cravings with the delicious offerings from the Havana Flavor food truck. Indulge in their mouthwatering delicacies\, adding a touch of culinary delight to your evening. Please refrain from bringing in outside food.</span></span></span></div>\n\n<div class="x11i5rnm xat24cr x1mh8g0r x1vvkbs xtlvy1s" style="margin: 0.5em 0px 0px\; overflow-wrap: break-word\; font-family: &quot\;Segoe UI Historic&quot\;\, &quot\;Segoe UI&quot\;\, Helvetica\, Arial\, sans-serif\; color: rgb(5\, 5\, 5)\; font-size: 15px\;"><span style="font-size:18px\;"><span style="color:#666666\;"><span style="font-family:tahoma\;">Don&#39\;t miss out on this memorable night of laughter\, great company\, and delectable food. Mark your calendars and spread the word\, as this comedy extravaganza at RayLen Vineyards is not to be missed!</span></span></span></div>\n\n<div class="x11i5rnm xat24cr x1mh8g0r x1vvkbs xtlvy1s" style="margin: 0.5em 0px 0px\; overflow-wrap: break-word\; font-family: &quot\;Segoe UI Historic&quot\;\, &quot\;Segoe UI&quot\;\, Helvetica\, Arial\, sans-serif\; color: rgb(5\, 5\, 5)\; font-size: 15px\;"><span style="font-size:18px\;"><span style="color:#666666\;"><span style="font-family:tahoma\;">Ticket Info:<br />\n-Members: FREE (advanced reservations suggested- click the button to &quot\;purchase&quot\;)<br />\n-Non-Members: $20 per person ($25 at the door)</span></span></span></div>\n\n<div class="x11i5rnm xat24cr x1mh8g0r x1vvkbs xtlvy1s" style="margin: 0.5em 0px 0px\; overflow-wrap: break-word\; font-family: &quot\;Segoe UI Historic&quot\;\, &quot\;Segoe UI&quot\;\, Helvetica\, Arial\, sans-serif\; color: rgb(5\, 5\, 5)\; font-size: 15px\;"><span style="font-size:18px\;"><span style="color:#666666\;"><span style="font-family:tahoma\;">Members include: Case\, Cork\, Premier Cru\, and Cellarmaster<br />\nNot a member? Click THIS LINK to learn about how you can join the Cellarmaster Club.<br />\n*You must be logged into your member account to purchase your 2 free tickets online*</span></span></span></div>\n\n<div class="x11i5rnm xat24cr x1mh8g0r x1vvkbs xtlvy1s" style="margin: 0.5em 0px 0px\; overflow-wrap: break-word\; font-family: &quot\;Segoe UI Historic&quot\;\, &quot\;Segoe UI&quot\;\, Helvetica\, Arial\, sans-serif\; color: rgb(5\, 5\, 5)\; font-size: 15px\;"><span style="font-size:18px\;"><span style="color:#666666\;"><span style="font-family:tahoma\;">PLEASE NOTE: After purchasing an event ticket\, your name will be added to our guest list for that event. You will NOT receive a physical or virtual ticket.<br />\nAll RayLen event ticket sales are final with no returns\, exchanges or refunds.</span></span></span></div>\n\n<div class="x11i5rnm xat24cr x1mh8g0r x1vvkbs xtlvy1s" style="margin: 0.5em 0px 0px\; overflow-wrap: break-word\; font-family: &quot\;Segoe UI Historic&quot\;\, &quot\;Segoe UI&quot\;\, Helvetica\, Arial\, sans-serif\; color: rgb(5\, 5\, 5)\; font-size: 15px\;"><span style="font-size:18px\;"><span style="color:#666666\;"><span style="font-family:tahoma\;">For questions please call the tasting room (336) 998-3100 or Check out our FAQs page</span></span></span></div>\n\n<div class="x11i5rnm xat24cr x1mh8g0r x1vvkbs xtlvy1s" style="margin: 0.5em 0px 0px\; overflow-wrap: break-word\; font-family: &quot\;Segoe UI Historic&quot\;\, &quot\;Segoe UI&quot\;\, Helvetica\, Arial\, sans-serif\; color: rgb(5\, 5\, 5)\; font-size: 15px\;"><span style="font-size:18px\;"><span style="color:#666666\;"><span style="font-family:tahoma\;">Feel free to bring a lawn chair! NO outside alcohol\, food\, coolers\, balls\, scooters\, or bicycles are permitted. Rain or Shine.</span></span></span></div>\n
LOCATION:RayLen Vineyards & Winery
UID:e.2378.23003
SEQUENCE:3
DTSTAMP:20260425T214757Z
URL:https://business.daviechamber.com/events/details/giggles-glasses-comedy-night-23003
END:VEVENT

END:VCALENDAR
