BEGIN:VCALENDAR
VERSION:2.0
PRODID:-//ChamberMaster//Event Calendar 2.0//EN
METHOD:PUBLISH
X-PUBLISHED-TTL:P3D
REFRESH-INTERVAL:P3D
CALSCALE:GREGORIAN
BEGIN:VEVENT
DTSTART:20230329T200000Z
DTEND:20230329T213000Z
X-MICROSOFT-CDO-ALLDAYEVENT:FALSE
SUMMARY:Girl's STEAM Night
DESCRIPTION:Kick-off Women's History Month with a girls only STEAM night! We're inviting 2nd-6th grade girls to come talk about famous women in STEM while conducting experiments and taking on challenges.\n\n\n\nGET TICKETS
X-ALT-DESC;FMTTYPE=text/html:<span style="caret-color: rgb(5\, 5\, 5)\; color: rgb(5\, 5\, 5)\; font-family: system-ui\, -apple-system\, BlinkMacSystemFont\, &quot\;.SFNSText-Regular&quot\;\, sans-serif\; font-size: 15px\;">Kick-off Women&#39\;s History Month with a girls only STEAM night! We&#39\;re inviting 2nd-6th grade girls to come talk about famous women in STEM while conducting experiments and taking on challenges.</span><br />\n<br />\n<u><strong><a href="https://cognitiondavie.ticketing.veevartapp.com/tickets/view/list">GET TICKETS</a></strong></u>
LOCATION:Cognition Davie
UID:e.2378.22818
SEQUENCE:3
DTSTAMP:20260424T091934Z
URL:https://business.daviechamber.com/events/details/girl-s-steam-night-22818
END:VEVENT

END:VCALENDAR
