BEGIN:VCALENDAR
VERSION:2.0
PRODID:-//ChamberMaster//Event Calendar 2.0//EN
METHOD:PUBLISH
X-PUBLISHED-TTL:P3D
REFRESH-INTERVAL:P3D
CALSCALE:GREGORIAN
BEGIN:VEVENT
DTSTART:20151119T220000Z
DTEND:20151119T230000Z
X-MICROSOFT-CDO-ALLDAYEVENT:FALSE
SUMMARY:Giving Thanks Family Group Connection @ Smart Start of Davie County
DESCRIPTION:Giving Thanks Family Group Connection @ Smart Start of Davie County
X-ALT-DESC;FMTTYPE=text/html:Giving Thanks Family Group Connection @ Smart Start of Davie County
LOCATION:
UID:e.2378.938
SEQUENCE:3
DTSTAMP:20260422T060701Z
URL:https://business.daviechamber.com/events/details/giving-thanks-family-group-connection-smart-start-of-davie-county-11-19-2015-938
END:VEVENT

END:VCALENDAR
