BEGIN:VCALENDAR
VERSION:2.0
PRODID:-//ChamberMaster//Event Calendar 2.0//EN
METHOD:PUBLISH
X-PUBLISHED-TTL:P3D
REFRESH-INTERVAL:P3D
CALSCALE:GREGORIAN
BEGIN:VEVENT
DTSTART;VALUE=DATE:20171128
DTEND;VALUE=DATE:20171129
TRANSP:TRANSPARENT
X-MICROSOFT-CDO-ALLDAYEVENT:TRUE
SUMMARY:Giving Tuesday at Family Promise
DESCRIPTION:Mark your calendars! On Tuesday\, November 28\, 2017\, charities\, families\, businesses\, community centers\, and students around the world will come together for one common purpose: to celebrate generosity and to give.
X-ALT-DESC;FMTTYPE=text/html:<span style="color: rgb(29\, 33\, 41)\; font-family: Helvetica\, Arial\, sans-serif\; font-size: 14px\; font-style: normal\; font-variant-ligatures: normal\; font-variant-caps: normal\; font-weight: 400\; letter-spacing: normal\; orphans: 2\; text-align: start\; text-indent: 0px\; text-transform: none\; white-space: normal\; widows: 2\; word-spacing: 0px\; -webkit-text-stroke-width: 0px\; background-color: rgb(255\, 255\, 255)\; text-decoration-style: initial\; text-decoration-color: initial\; display: inline !important\; float: none\;">Mark your calendars! On Tuesday\, November 28\, 2017\, charities\, families\, businesses\, community centers\, and students around the world will come together for one common purpose: to celebrate generosity and to give.</span>
LOCATION:Family Promise of Davie County
UID:e.2378.13312
SEQUENCE:3
DTSTAMP:20260421T223434Z
URL:https://business.daviechamber.com/events/details/giving-tuesday-at-family-promise-13312
END:VEVENT

END:VCALENDAR
