BEGIN:VCALENDAR
VERSION:2.0
PRODID:-//ChamberMaster//Event Calendar 2.0//EN
METHOD:PUBLISH
X-PUBLISHED-TTL:P3D
REFRESH-INTERVAL:P3D
CALSCALE:GREGORIAN
BEGIN:VEVENT
DTSTART;VALUE=DATE:20170428
DTEND;VALUE=DATE:20170429
TRANSP:TRANSPARENT
X-MICROSOFT-CDO-ALLDAYEVENT:TRUE
SUMMARY:Glitz & Glam: Charity Classic Golf Tournament & Red Carpet Affair
DESCRIPTION:Celebrate Bermuda Run's annual Charity Classic with a Day of Timeless Glamour!\n\n\n\nEnjoy a golf tournament\, lunch\, dueling pianos by Dave Haywood\, exquisite hors d'oeuvres\, old fashioned and dirty martini stations\, a selfie booth\, a silent auction and much more.\n\n\n\nEach year\, the ClubCorp Charity Classic opens the doors of their private clubs to help those is need. Members\, family and friends alike give\, golf\, and dine during their nationwide\, one-day charity event\, donating more than $10 million since the Classic began in 2007. Anyone can participate in the Charity Classic - please help ClubCorp this year.\n\n\n\nThe event benefits:\n\n	Augie's Quest (an ALS foundation)\n	The ClubCorp Employee Partners Care Foundation\n	United Way of Davie County\n\n\n\nBecome an event sponsor and receive exclusive benefits like recognition at the event\, complimentary green fees\, drink vouchers\, and more - sponsorships start at just $500.
X-ALT-DESC;FMTTYPE=text/html:Celebrate Bermuda Run&#39\;s annual Charity Classic with a <em>Day of Timeless Glamour!<br />\n<br />\nEnjoy a golf tournament\, lunch\, dueling pianos by Dave Haywood\, exquisite hors d&#39\;oeuvres\, old fashioned and dirty martini stations\, a selfie booth\, a silent auction and much more.</em><br />\n<br />\nEach year\, the ClubCorp Charity Classic opens the doors of their private clubs to help those is need. Members\, family and friends alike give\, golf\, and dine during their nationwide\, one-day charity event\, donating more than $10 million since the Classic began in 2007.&nbsp\;<em>Anyone can participate in the Charity Classic - please help ClubCorp&nbsp\;this year.</em><br />\n<br />\n<em>The event benefits:</em>\n<ul>\n	<li><em>Augie&#39\;s Quest (an ALS foundation)</em></li>\n	<li><em>The ClubCorp Employee Partners Care Foundation</em></li>\n	<li><em>United Way of Davie County</em></li>\n</ul>\n<br />\nBecome an event sponsor and receive exclusive benefits like recognition at the event\, complimentary green fees\, drink vouchers\, and more - sponsorships start at just $500.
LOCATION:Bermuda Run Country Club 324 Bermuda Run Dr Bermuda Run\, NC 27006
UID:e.2378.11573
SEQUENCE:3
DTSTAMP:20260424T084026Z
URL:https://business.daviechamber.com/events/details/glitz-glam-charity-classic-golf-tournament-red-carpet-affair-11573
END:VEVENT

END:VCALENDAR
