BEGIN:VCALENDAR
VERSION:2.0
PRODID:-//ChamberMaster//Event Calendar 2.0//EN
METHOD:PUBLISH
X-PUBLISHED-TTL:P3D
REFRESH-INTERVAL:P3D
CALSCALE:GREGORIAN
BEGIN:VEVENT
DTSTART:20260301T010000Z
DTEND:20260301T020000Z
X-MICROSOFT-CDO-ALLDAYEVENT:FALSE
SUMMARY:Glow & Flow | Breathe Yoga
DESCRIPTION:Join us for a beginner friendly\, upbeat\, fun flow under the blacklights!\n\nWear neon!\n\n\n\n$15.00 Per Person\n\n12 Spots available
X-ALT-DESC;FMTTYPE=text/html:<p><span style="font-size:16px\;"><span style="color: rgb(8\, 8\, 9)\; font-family: &quot\;Segoe UI Historic&quot\;\, &quot\;Segoe UI&quot\;\, Helvetica\, Arial\, sans-serif\;">Join us for a beginner friendly\, upbeat\, fun flow under the blacklights!<br />\nWear neon!<br />\n<br />\n$15.00 Per Person<br />\n12 Spots available</span></span></p>\n
LOCATION:
UID:e.2378.30294
SEQUENCE:3
DTSTAMP:20260424T121707Z
URL:https://business.daviechamber.com/events/details/glow-flow-breathe-yoga-30294
END:VEVENT

END:VCALENDAR
