BEGIN:VCALENDAR
VERSION:2.0
PRODID:-//ChamberMaster//Event Calendar 2.0//EN
METHOD:PUBLISH
X-PUBLISHED-TTL:P3D
REFRESH-INTERVAL:P3D
CALSCALE:GREGORIAN
BEGIN:VEVENT
DTSTART:20250428T213000Z
DTEND:20250428T223000Z
X-MICROSOFT-CDO-ALLDAYEVENT:FALSE
SUMMARY:Goat Yoga at Allen Durham Family Farm
DESCRIPTION:This event will be held outside in the grass! Babies will be around 2 1/2 weeks old on our first scheduled date! Let's have some fun! GET TICKETS
X-ALT-DESC;FMTTYPE=text/html:<span style="font-size:18px\;"><span style="font-family:tahoma\;"><span style="color:#000000\;">This event will be held outside in the grass! Babies will be around 2 1/2 weeks old on our first scheduled date! Let&rsquo\;s have some fun! GET TICKETS</span></span></span>
LOCATION:Allen Durham Family Farm
UID:e.2378.25647
SEQUENCE:3
DTSTAMP:20260426T005648Z
URL:https://business.daviechamber.com/events/details/goat-yoga-at-allen-durham-family-farm-25647
END:VEVENT

END:VCALENDAR
