BEGIN:VCALENDAR
VERSION:2.0
PRODID:-//ChamberMaster//Event Calendar 2.0//EN
METHOD:PUBLISH
X-PUBLISHED-TTL:P3D
REFRESH-INTERVAL:P3D
CALSCALE:GREGORIAN
BEGIN:VEVENT
DTSTART:20250626T153000Z
DTEND:20250626T200000Z
X-MICROSOFT-CDO-ALLDAYEVENT:FALSE
SUMMARY:Golf for Good | Rise Indoor Sports
DESCRIPTION:Join us for an afternoon of golf and support the RISE Community Fund helping provide sports scholarships and health and wellness resources for youth\, families\, and seniors in our community.
X-ALT-DESC;FMTTYPE=text/html:<span style="font-size:18px\;"><span style="font-family:tahoma\;"><span style="color:#000000\;">Join us for an afternoon of golf and support the RISE Community Fund&mdash\;helping provide sports scholarships and health and wellness resources for youth\, families\, and seniors in our community.</span></span></span>
LOCATION:Tanglewood Park
UID:e.2378.27538
SEQUENCE:3
DTSTAMP:20260425T232719Z
URL:https://business.daviechamber.com/events/details/golf-for-good-rise-indoor-sports-27538
END:VEVENT

END:VCALENDAR
