BEGIN:VCALENDAR
VERSION:2.0
PRODID:-//ChamberMaster//Event Calendar 2.0//EN
METHOD:PUBLISH
X-PUBLISHED-TTL:P3D
REFRESH-INTERVAL:P3D
CALSCALE:GREGORIAN
BEGIN:VEVENT
DTSTART:20230818T210000Z
DTEND:20230819T003000Z
X-MICROSOFT-CDO-ALLDAYEVENT:FALSE
SUMMARY:Goose on the Loose Food Truck
DESCRIPTION:Enjoy delicious food from Goose on the Loose Food Truck and Live Music from 7 to 10!
X-ALT-DESC;FMTTYPE=text/html:<span style="font-size:18px\;"><span style="font-family:tahoma\;"><span style="color:#333333\;">Enjoy delicious food from Goose on the Loose Food Truck and Live Music from 7 to 10!</span></span></span>
LOCATION:The Station
UID:e.2378.23172
SEQUENCE:3
DTSTAMP:20260425T201853Z
URL:https://business.daviechamber.com/events/details/goose-on-the-loose-food-truck-23172
END:VEVENT

END:VCALENDAR
