BEGIN:VCALENDAR
VERSION:2.0
PRODID:-//ChamberMaster//Event Calendar 2.0//EN
METHOD:PUBLISH
X-PUBLISHED-TTL:P3D
REFRESH-INTERVAL:P3D
CALSCALE:GREGORIAN
BEGIN:VEVENT
DTSTART:20181020T190000Z
DTEND:20181021T000000Z
X-MICROSOFT-CDO-ALLDAYEVENT:FALSE
SUMMARY:Granite Ridge Farms Hurricane Michael Fundraiser
DESCRIPTION:There are many families who were affected by Hurricane Michael last week both here at home and abroad. Granite Ridge Farms will be hosting a fundraiser event this Saturday\, October 20th from 3 - 8pm to help those who were in the path of Michael. Enjoy dinner and a performance by Hazy Ridge Bluegrass Band while supporting a great cause! a $5/person donation is kindly asked. Graite Ridge has partnered with Le Bleu for this event and every dollar donated will go to sending clean water to Florida residents.
X-ALT-DESC;FMTTYPE=text/html:There are many families who were affected by Hurricane Michael last week both here at home and abroad. Granite Ridge Farms will be hosting a fundraiser event this Saturday\, October 20th from 3 - 8pm to help those who were in the path of Michael. Enjoy dinner and a performance by Hazy Ridge Bluegrass Band while supporting a great cause! a $5/person donation is kindly asked. Graite Ridge has partnered with Le Bleu for this event and every dollar donated will go to sending clean water to Florida residents.&nbsp\;
LOCATION:Granite Ridge Farms 5142 US 601 North Mocksville\, NC
UID:e.2378.14883
SEQUENCE:3
DTSTAMP:20260421T081843Z
URL:https://business.daviechamber.com/events/details/granite-ridge-farms-hurricane-michael-fundraiser-14883
END:VEVENT

END:VCALENDAR
