BEGIN:VCALENDAR
VERSION:2.0
PRODID:-//ChamberMaster//Event Calendar 2.0//EN
METHOD:PUBLISH
X-PUBLISHED-TTL:P3D
REFRESH-INTERVAL:P3D
CALSCALE:GREGORIAN
BEGIN:VEVENT
DTSTART:20151015T200000Z
DTEND:20151016T000000Z
X-MICROSOFT-CDO-ALLDAYEVENT:FALSE
SUMMARY:Gratitude Gathering @ Hillsdale Real Estate
DESCRIPTION:Our annual customer appreciation event is scheduled for this Thursday\, October 15th\, between 4pm-8pm. \n\nWe are calling this our "Gratitude Gathering 2015" and invite you to join us at our office location (5539 Hwy 158\, Advance) to celebrate our appreciation to live and work in our community. The event is FREE and there is absolutely nothing to buy or sell from anyone. \n\nThis is our best effort to host an old-fashioned chicken stew\, professionally catered\, with a variety of chilis and soups\, Jersey Mike's sandwhiches\, Mrs. Carolyn Jones Chicken Pies from A Full Measure\, Krispy Kreme doughnuts from the new Clemmons location\, Le Bleu Bottled Water\, Popcorn\, Smoothies\, and Hot Chocolate.\n\nLive Music provided by Tammie Davis\, compliments of N2 Publishing Bermuda Run Living and Oak Valley Scorecard magazines.\n\nComplimentary Chair Massages by the professional staff of Bella Mia. Please sign up with your preference for time between 4pm-7:30pm by visiting our Facebook page: https://www.facebook.com/hillsdaleregroup\n\nBounce Houses will be set up\, 10 minute child supervision available for parents enjoying a massage. \n\nOther activities include Corn Hole Tournament sponsored by Hamilton Group Funding\; Wine Tastings sponsored by Corners Cafe\; Gratitude Wall sponsored by the Bermuda Run Living Social Committee\; and prize drawings compliments of Ruth Lowe\, Massage Therapist\, Checkered Flag Car Wash\, Steelman's ACE Hardware\, Darren S. Cranfill\, Attorney at Law\, and Hillsdale Real Estate Group. \n\nSupporting Sponsors Include: Wake Forest Baptist Health-Davie Campus\, Yadkin Valley Telecom\, Summit School\, Megan Gioeli Photography\, Bella Mia Skin Care\, Kenny Stone/NC Farm Bureau\, Sharpe Images\, Corners Cafe\, Bank of the Ozarks\, A Full Measure Catering\, Hamilton Group Funding\, Enaja Safaris and Tours\, and Stagecoach Chiropractic.
X-ALT-DESC;FMTTYPE=text/html:Our annual customer appreciation event is scheduled for this Thursday\, October 15th\, between 4pm-8pm.&nbsp\;<br />\nWe are calling this our <strong>&quot\;Gratitude Gathering 2015&quot\;</strong> and invite you to join us at our office location (5539 Hwy 158\, Advance) to celebrate our appreciation to live and work in our community. The event is FREE and there is absolutely nothing to buy or sell from anyone.&nbsp\;<br />\nThis is our best effort to host an old-fashioned chicken stew\, professionally catered\, with a variety of chilis and soups\, Jersey Mike&#39\;s sandwhiches\, Mrs. Carolyn Jones Chicken Pies from A Full Measure\, Krispy Kreme doughnuts from the new Clemmons location\, Le Bleu Bottled Water\, Popcorn\, Smoothies\, and Hot Chocolate.<br />\nLive Music provided by Tammie Davis\, compliments of N2 Publishing <em>Bermuda Run Living </em>and<em> Oak Valley Scorecard </em>magazines.<br />\nComplimentary Chair Massages by the professional staff of Bella Mia. Please sign up with your preference for time between 4pm-7:30pm by visiting our Facebook page:&nbsp\;<a href="https://www.facebook.com/hillsdaleregroup">https://www.facebook.com/hillsdaleregroup</a><br />\nBounce Houses will be set up\, 10 minute child supervision available for parents enjoying a massage.&nbsp\;<br />\nOther activities include Corn Hole Tournament sponsored by Hamilton Group Funding\; Wine Tastings sponsored by Corners Cafe\; Gratitude Wall sponsored by the <em>Bermuda Run Living </em>Social Committee\; and prize drawings compliments of Ruth Lowe\, Massage Therapist\, Checkered Flag Car Wash\, Steelman&#39\;s ACE Hardware\, Darren S. Cranfill\, Attorney at Law\, and Hillsdale Real Estate Group.&nbsp\;<br />\nSupporting Sponsors Include: Wake Forest Baptist Health-Davie Campus\, Yadkin Valley Telecom\, Summit School\, Megan Gioeli Photography\, Bella Mia Skin Care\, Kenny Stone/NC Farm Bureau\, Sharpe Images\, Corners Cafe\, Bank of the Ozarks\, A Full Measure Catering\, Hamilton Group Funding\, Enaja Safaris and Tours\, and Stagecoach Chiropractic.<br />\n&nbsp\;
LOCATION:Parking lot at Hillsdale Real Estate Group's office. 5539 US Hwy 158\, Advance\, NC 27006
UID:e.2378.4001
SEQUENCE:3
DTSTAMP:20260422T072611Z
URL:https://business.daviechamber.com/events/details/gratitude-gathering-hillsdale-real-estate-10-15-2015-4001
END:VEVENT

END:VCALENDAR
