BEGIN:VCALENDAR
VERSION:2.0
PRODID:-//ChamberMaster//Event Calendar 2.0//EN
METHOD:PUBLISH
X-PUBLISHED-TTL:P3D
REFRESH-INTERVAL:P3D
CALSCALE:GREGORIAN
BEGIN:VEVENT
DTSTART:20161012T114500Z
DTEND:20161012T133000Z
X-MICROSOFT-CDO-ALLDAYEVENT:FALSE
SUMMARY:Grow Your Retail Breakfast Workshop
DESCRIPTION:All Davie County Business Owners/Managers are invited to the Grow Your Retail Workshops. Meet the Retail Coach Consultants retained to help grow our communities & learn about: *The state of retail in Davie County *Retail Leakage Statistics (what residents buy in other communities/online) *Opportunities to expand your product & service offerings based on leakage data
X-ALT-DESC;FMTTYPE=text/html:All Davie County Business Owners/Managers are invited to the Grow Your Retail Workshops. Meet the Retail Coach Consultants retained to help grow our communities &amp\; learn about: *The state of retail in Davie County *Retail Leakage Statistics (what residents buy in other communities/online) *Opportunities to expand your product &amp\; service offerings based on leakage data
LOCATION:Breakfast Workshop Granary @ WinMock 168 E Kinderton Way Bermuda Run\, NC
UID:e.2378.9879
SEQUENCE:3
DTSTAMP:20260421T154837Z
URL:https://business.daviechamber.com/events/details/grow-your-retail-breakfast-workshop-9879
END:VEVENT

END:VCALENDAR
