BEGIN:VCALENDAR
VERSION:2.0
PRODID:-//ChamberMaster//Event Calendar 2.0//EN
METHOD:PUBLISH
X-PUBLISHED-TTL:P3D
REFRESH-INTERVAL:P3D
CALSCALE:GREGORIAN
BEGIN:VEVENT
DTSTART:20230824T180000Z
DTEND:20230824T190000Z
X-MICROSOFT-CDO-ALLDAYEVENT:FALSE
SUMMARY:Growing Culinary Herbs
DESCRIPTION:Would you like to perk up your meals with herbs? Do you love using fresh herbs in cooking but find them expensive to purchase? Would you like to learn how to grow your own culinary herbs?\n\nJoin Horticulture Agent Susan Hawkins to learn how to grow culinary herbs. Participants will learn specifics of growing many different culinary herbs\, get information on harvest and storage of herbs\, and learn about general cultural considerations for herbs.\n\nThe class will be held in a hybrid format and will be presented both in person and over Zoom. We will meet in person at the Davie County Cooperative Extension Office at 642 Wilkesboro St.\, Mocksville\, NC. For those who prefer to attend virtually\, a Zoom link will be provided. Call 336-753-6100 or email smhawkin@ncsu.edu with questions.
X-ALT-DESC;FMTTYPE=text/html:<p style="margin: 0px\; padding: 0px\; box-sizing: border-box\; color: rgb(111\, 114\, 135)\; font-size: 16px\; line-height: 1.5rem\; font-family: &quot\;Neue Plak&quot\;\, -apple-system\, BlinkMacSystemFont\, Roboto\, &quot\;Helvetica Neue&quot\;\, Helvetica\, Tahoma\, Arial\, sans-serif\;"><span style="color:#333333\;"><span style="font-size:18px\;"><span style="font-family:tahoma\;">Would you like to perk up your meals with herbs? Do you love using fresh herbs in cooking but find them expensive to purchase? Would you like to learn how to grow your own culinary herbs?</span></span></span></p>\n\n<p style="margin: 0px\; padding: 10px 0px 0px\; box-sizing: border-box\; color: rgb(111\, 114\, 135)\; font-size: 16px\; line-height: 1.5rem\; font-family: &quot\;Neue Plak&quot\;\, -apple-system\, BlinkMacSystemFont\, Roboto\, &quot\;Helvetica Neue&quot\;\, Helvetica\, Tahoma\, Arial\, sans-serif\;"><span style="color:#333333\;"><span style="font-size:18px\;"><span style="font-family:tahoma\;">Join Horticulture Agent Susan Hawkins to learn how to grow culinary herbs. Participants will learn specifics of growing many different culinary herbs\, get information on harvest and storage of herbs\, and learn about general cultural considerations for herbs.</span></span></span></p>\n\n<p style="margin: 0px\; padding: 10px 0px 0px\; box-sizing: border-box\; color: rgb(111\, 114\, 135)\; font-size: 16px\; line-height: 1.5rem\; font-family: &quot\;Neue Plak&quot\;\, -apple-system\, BlinkMacSystemFont\, Roboto\, &quot\;Helvetica Neue&quot\;\, Helvetica\, Tahoma\, Arial\, sans-serif\;"><span style="color:#333333\;"><span style="font-size:18px\;"><span style="font-family:tahoma\;">The class will be held in a hybrid format and will be presented both in person and over Zoom. We will meet in person at the Davie County Cooperative Extension Office at 642 Wilkesboro St.\, Mocksville\, NC. For those who prefer to attend virtually\, a Zoom link will be provided. Call 336-753-6100 or email smhawkin@ncsu.edu with questions.</span></span></span></p>\n
LOCATION:Davie County Cooperative Extension
UID:e.2378.23183
SEQUENCE:3
DTSTAMP:20260425T213233Z
URL:https://business.daviechamber.com/events/details/growing-culinary-herbs-23183
END:VEVENT

END:VCALENDAR
