BEGIN:VCALENDAR
VERSION:2.0
PRODID:-//ChamberMaster//Event Calendar 2.0//EN
METHOD:PUBLISH
X-PUBLISHED-TTL:P3D
REFRESH-INTERVAL:P3D
CALSCALE:GREGORIAN
BEGIN:VEVENT
DTSTART:20170301T150000Z
DTEND:20170301T170000Z
X-MICROSOFT-CDO-ALLDAYEVENT:FALSE
SUMMARY:Healthcare\, Planning\, The Future\, And You!
DESCRIPTION:You are invited to attend the 1st workshop of Hospice & Palliative CareCenter's 2017 Series. A panel of experts will address key topics and answer your questions.\n\n\n\nPlan to attend to learn more about:\n\n\n	Long Term Care Insurance\n	Advanced Care Planning\n	Legislation Impacting Our Healthcare\n\n\nExpert panelists include:\n\nCara Townsend\, Associate State Director Advocacy & Outreach - AARP\n\nChristine Brown\, VP of Business Development - Hospice & Palliative CareCenter\n\nDavid L. Haynes\, Long-Term Care Insurance Planner\n\n\n\nSponsors:\n\nNorth Carolina AARP | Hospice & Palliative CareCenter | Haynes LTC Insurance\n\n\n\nRSVP: 1-877-926-8300
X-ALT-DESC;FMTTYPE=text/html:<div>You are invited to attend the 1st workshop of Hospice &amp\; Palliative CareCenter&#39\;s 2017 Series. A panel of experts will address key topics and answer your questions.<br />\n<br />\nPlan to attend to learn more about:</div>\n\n<ul>\n	<li>Long Term Care Insurance</li>\n	<li>Advanced Care Planning</li>\n	<li>Legislation Impacting Our Healthcare</li>\n</ul>\n\n<div style="text-align: center\;">Expert panelists include:<br />\n<strong>Cara Townsend</strong>\, <em>Associate State Director Advocacy &amp\; Outreach - AARP</em><br />\n<strong>Christine Brown</strong>\, <em>VP of Business Development - Hospice &amp\; Palliative CareCenter</em><br />\n<strong>David L. Haynes</strong>\, <em>Long-Term Care Insurance Planner</em><br />\n<br />\n<span style="text-align: center\;">Sponsors:</span><br style="text-align: center\;" />\n<span style="text-align: center\;"><strong>North Carolina AARP</strong> | <strong>Hospice &amp\; Palliative&nbsp\;</strong></span><strong>CareCenter</strong><span style="text-align: center\;">&nbsp\;| <strong>Haynes LTC Insurance</strong></span></div>\n\n<div><br />\n<em>RSVP: 1-877-926-8300</em></div>\n
LOCATION:Hospice & Palliative CareCenter Williams Education & Counseling Center 101 Hospice Ln Winston-Salem\, NC 27103
UID:e.2378.11396
SEQUENCE:3
DTSTAMP:20260421T103401Z
URL:https://business.daviechamber.com/events/details/healthcare-planning-the-future-and-you-11396
END:VEVENT

END:VCALENDAR
