BEGIN:VCALENDAR
VERSION:2.0
PRODID:-//ChamberMaster//Event Calendar 2.0//EN
METHOD:PUBLISH
X-PUBLISHED-TTL:P3D
REFRESH-INTERVAL:P3D
CALSCALE:GREGORIAN
BEGIN:VEVENT
DTSTART:20230418T220000Z
DTEND:20230418T230000Z
X-MICROSOFT-CDO-ALLDAYEVENT:FALSE
SUMMARY:Helping Your Loved One Navigate Long-Term Care
DESCRIPTION:Caregivers of any age are invited to learn more about long term care. How do you know when it is time to place your loved one? How do you choose a facility? What is the rold of an Ombudsman? A pizza dinner will be served. Participants should be a caregiver of an older adult.\n\n\n\nRegister by April 11. Call 336.753.6230
X-ALT-DESC;FMTTYPE=text/html:<span style="font-size:16px\;"><span style="font-family:tahoma\;">Caregivers of any age are invited to learn more about long term care. How do you know when it is time to place your loved one? How do you choose a facility? What is the rold of an Ombudsman? A pizza dinner will be served. Participants should be a caregiver of an older adult.<br />\n<br />\nRegister by April 11. Call 336.753.6230</span></span>
LOCATION:Davie County Senior Services
UID:e.2378.22801
SEQUENCE:3
DTSTAMP:20260424T114737Z
URL:https://business.daviechamber.com/events/details/helping-your-loved-one-navigate-long-term-care-22801
END:VEVENT

END:VCALENDAR
