BEGIN:VCALENDAR
VERSION:2.0
PRODID:-//ChamberMaster//Event Calendar 2.0//EN
METHOD:PUBLISH
X-PUBLISHED-TTL:P3D
REFRESH-INTERVAL:P3D
CALSCALE:GREGORIAN
BEGIN:VEVENT
DTSTART:20180324T150000Z
DTEND:20180324T170000Z
X-MICROSOFT-CDO-ALLDAYEVENT:FALSE
SUMMARY:Hillsdale Rotary Wing Cook Off
DESCRIPTION:Help us judge the best wings in Davie County while we raise money for the Hillsdale Rotary Club! Judge between wings from the Davie Tavern\, TPC\, and Tucker's Place. Donate to cast your vote for the best wings in town!\n\n\n\nSponsored by Tucker's Place\, ACE Hardware and Hillsdale Rotary Club
X-ALT-DESC;FMTTYPE=text/html:Help us judge the best wings in Davie County while we raise money for the Hillsdale Rotary Club! Judge between wings from the Davie Tavern\, TPC\, and Tucker&#39\;s Place. Donate to cast your vote for the best wings in town!<br />\n<br />\nSponsored by Tucker&#39\;s Place\, ACE Hardware and Hillsdale Rotary Club
LOCATION:Steelman's ACE Hardware 5431 US-158 Bermuda Run\, NC 27006
UID:e.2378.13646
SEQUENCE:3
DTSTAMP:20260421T181234Z
URL:https://business.daviechamber.com/events/details/hillsdale-rotary-wing-cook-off-13646
END:VEVENT

END:VCALENDAR
