BEGIN:VCALENDAR
VERSION:2.0
PRODID:-//ChamberMaster//Event Calendar 2.0//EN
METHOD:PUBLISH
X-PUBLISHED-TTL:P3D
REFRESH-INTERVAL:P3D
CALSCALE:GREGORIAN
BEGIN:VEVENT
DTSTART:20230310T150000Z
DTEND:20230310T163000Z
X-MICROSOFT-CDO-ALLDAYEVENT:FALSE
SUMMARY:Homeschool Event: Magical Magnets
DESCRIPTION:There are so many fun ways to explore magnets and magnetic energy! Join us as we build compasses\, experiment with viscosity\, and learn all about what magnetic energy is and what it can do.\n\n\n\nGET TICKETS
X-ALT-DESC;FMTTYPE=text/html:<span style="font-size:16px\;"><span style="font-family:tahoma\;">There are so many fun ways to explore magnets and magnetic energy! Join us as we build compasses\, experiment with viscosity\, and learn all about what magnetic energy is and what it can do.<br />\n<br />\n<u><strong><a href="https://cognitiondavie.ticketing.veevartapp.com/tickets/view/list/homeschool-event-magical-magnets?fbclid=IwAR0yZrFFxiBT7IU3TsnyS-bZXEeqt-0PWkaupMZJUlnPnfwyyWkPlljgPgs">GET TICKETS</a></strong></u></span></span>
LOCATION:Cognition Davie
UID:e.2378.22786
SEQUENCE:3
DTSTAMP:20260424T103742Z
URL:https://business.daviechamber.com/events/details/homeschool-event-magical-magnets-22786
END:VEVENT

END:VCALENDAR
