BEGIN:VCALENDAR
VERSION:2.0
PRODID:-//ChamberMaster//Event Calendar 2.0//EN
METHOD:PUBLISH
X-PUBLISHED-TTL:P3D
REFRESH-INTERVAL:P3D
CALSCALE:GREGORIAN
BEGIN:VEVENT
DTSTART:20180216T223000Z
DTEND:20180217T033000Z
X-MICROSOFT-CDO-ALLDAYEVENT:FALSE
SUMMARY:Hometown Hoedown with Smart Start
DESCRIPTION:6th Annual Hometown Hoedown benefiting Smart Start of Davie County
X-ALT-DESC;FMTTYPE=text/html:6th Annual Hometown Hoedown benefiting Smart Start of Davie County
LOCATION:WinMock at Kinderton 168 East Kinderton Way Bermuda Run\, NC 27006
UID:e.2378.12072
SEQUENCE:3
DTSTAMP:20260421T181921Z
URL:https://business.daviechamber.com/events/details/hometown-hoedown-with-smart-start-12072
END:VEVENT

END:VCALENDAR
