BEGIN:VCALENDAR
VERSION:2.0
PRODID:-//ChamberMaster//Event Calendar 2.0//EN
METHOD:PUBLISH
X-PUBLISHED-TTL:P3D
REFRESH-INTERVAL:P3D
CALSCALE:GREGORIAN
BEGIN:VEVENT
DTSTART:20170324T223000Z
DTEND:20170325T000000Z
X-MICROSOFT-CDO-ALLDAYEVENT:FALSE
SUMMARY:Hootenanny Paint Studio @ Scarlett's Unique Boutique
DESCRIPTION:Choose between 2 pictures to create your own work of art. Go to http://www.hootenannypaintstudio.com to register and click on up coming classes and dates. Please register and pay by Friday\, March 24 at 12:00 pm to reserve your seat.
X-ALT-DESC;FMTTYPE=text/html:Choose between 2 pictures to create your own work of art. Go to <a href="http://www.hootenannypaintstudio.com">http://www.hootenannypaintstudio.com</a>&nbsp\;to register and click on up coming classes and dates. Please register and pay by Friday\, March 24 at 12:00 pm to reserve your seat.
LOCATION:Scarlett's Unique Boutique 185 N Main St Mocksville\, NC 27028
UID:e.2378.11545
SEQUENCE:3
DTSTAMP:20260421T103434Z
URL:https://business.daviechamber.com/events/details/hootenanny-paint-studio-scarlett-s-unique-boutique-03-24-2017-11545
END:VEVENT

END:VCALENDAR
