BEGIN:VCALENDAR
VERSION:2.0
PRODID:-//ChamberMaster//Event Calendar 2.0//EN
METHOD:PUBLISH
X-PUBLISHED-TTL:P3D
REFRESH-INTERVAL:P3D
CALSCALE:GREGORIAN
BEGIN:VEVENT
DTSTART;VALUE=DATE:20170429
DTEND;VALUE=DATE:20170430
TRANSP:TRANSPARENT
X-MICROSOFT-CDO-ALLDAYEVENT:TRUE
SUMMARY:Hospice Hope Run
DESCRIPTION:The Hospice Hope Run provides the perfect opportunity to honor loved ones as well as provide Hospice & Palliative CareCenter with the tools needed to provide compassionate care to those in need. Form a team\, join a team\, or donate your time and resources to help Hospice & Palliative CareCenter continue its important mission!\n\n\n\nWhen registering\, be sure to sign up for the POST RUN PIG OUT! This is a time to celebrate your accomplishment\, relax with your friends\, children\, family\, and PIG OUT on some of the finest barbecue and chicken. LIVE ENTERTAINMENT!
X-ALT-DESC;FMTTYPE=text/html:The Hospice Hope Run provides the perfect opportunity to honor loved ones as well as provide Hospice &amp\; Palliative CareCenter with the tools needed to provide compassionate care to those in need. Form a team\, join a team\, or donate your time and resources to help Hospice &amp\; Palliative CareCenter&nbsp\;continue its important mission!<br />\n<br />\nWhen registering\, be sure to sign up for the <em>POST RUN PIG OUT!&nbsp\;</em>This is a time to celebrate your accomplishment\, relax with your friends\, children\, family\, and PIG OUT on some of the finest barbecue and chicken. <em>LIVE ENTERTAINMENT!</em>
LOCATION:Deacon Tower at BB&T Field 499 Deacon Blvd Winston-Salem\, NC 27028
UID:e.2378.11507
SEQUENCE:3
DTSTAMP:20260422T084748Z
URL:https://business.daviechamber.com/events/details/hospice-hope-run-11507
END:VEVENT

END:VCALENDAR
