BEGIN:VCALENDAR
VERSION:2.0
PRODID:-//ChamberMaster//Event Calendar 2.0//EN
METHOD:PUBLISH
X-PUBLISHED-TTL:P3D
REFRESH-INTERVAL:P3D
CALSCALE:GREGORIAN
BEGIN:VEVENT
DTSTART:20250216T003000Z
DTEND:20250216T020000Z
X-MICROSOFT-CDO-ALLDAYEVENT:FALSE
SUMMARY:Hotter Than July: A Stevie Wonders Tribute
DESCRIPTION:
X-ALT-DESC;FMTTYPE=text/html:
LOCATION:
UID:e.2378.25257
SEQUENCE:3
DTSTAMP:20260425T172556Z
URL:https://business.daviechamber.com/events/details/hotter-than-july-a-stevie-wonders-tribute-25257
END:VEVENT

END:VCALENDAR
