BEGIN:VCALENDAR
VERSION:2.0
PRODID:-//ChamberMaster//Event Calendar 2.0//EN
METHOD:PUBLISH
X-PUBLISHED-TTL:P3D
REFRESH-INTERVAL:P3D
CALSCALE:GREGORIAN
BEGIN:VEVENT
DTSTART:20230520T140000Z
DTEND:20230520T160000Z
X-MICROSOFT-CDO-ALLDAYEVENT:FALSE
SUMMARY:HSDC at Cognition! Adoption and Donation Fair
DESCRIPTION:Cognition is back with the Humane Society of Davie County and this time they're bringing furry friends! We will be hosting an adoption event in our outdoor area while inside we will be making toys and treats. This event is free with the donation of a needed pet product.\n\n\n\nFIND TICKETS
X-ALT-DESC;FMTTYPE=text/html:<span style="font-size:16px\;"><span style="font-family:tahoma\;"><span style="color: rgb(5\, 5\, 5)\;">Cognition is back with the Humane Society of Davie County and this time they&rsquo\;re bringing furry friends! We will be hosting an adoption event in our outdoor area while inside we will be making toys and treats. This event is free with the donation of a needed pet product.<br />\n<br />\n<u><strong><a href="https://cognitiondavie.ticketing.veevartapp.com/tickets/view/list/cognition-cares-x-humane-society?fbclid=IwAR129pOpJfs9K3QsEJN8qFfi8diUr4Nd7skIfDIoqYkjcSI7Z9BAl4LoFjQ">FIND TICKETS</a></strong></u></span></span></span>
LOCATION:Cognition Davie
UID:e.2378.22954
SEQUENCE:3
DTSTAMP:20260424T130026Z
URL:https://business.daviechamber.com/events/details/hsdc-at-cognition-adoption-and-donation-fair-22954
END:VEVENT

END:VCALENDAR
